Workbook

Sheet 教室申込
A1: 珠算検定 教室申込書
A2: 教室情報を入力後、「折り畳みボタン」で受験者入力欄を広く使えます。
A3: 試験日 | B3: 46432 | E3: 様式版 | F3: SBN-2027-02-v0.3 | J3: 集計
A4: 教室名 | J4: 入力人数（行数） | K4: =COUNTA(B13:B212) -> 0
A5: 電話番号 | E5: 担当者名 | J5: 受験件数 | K5: =SUMPRODUCT((F13:F212<>"")*1)+SUMPRODUCT((G13:G212<>"")*1)+SUMPRODUCT((H13:H212<>"")*1) -> 0
A6: 住所 | E6: 郵便番号 | J6: 受験料合計 | K6: =SUM(K13:K212) -> 0
A7: メール | J7: 確認が必要な行 | K7: =SUMPRODUCT((L13:L212<>"")*1) -> 0
A8: 振込予定日 | E8: 任意・西暦/月/日
A9: 姓と名の間は半角スペース。生年月日は西暦/月/日で入力。珠算・暗算は1～3級のみ。
A10: 黄色だけ入力。所属は教室名から自動表示。初受験「はい」の対象種目は備考へ。
A11: No. | B11: 氏名 | C11: フリガナ | D11: 生年月日 西暦/月/日 | E11: 所属（自動） | F11: 珠算級 | G11: 暗算級 | H11: 段位認定 | I11: 初受験 | J11: 備考 | K11: 受験料 | L11: 入力確認
A12: 記入例 | B12: ○○ ○○ （間に半角スペース） | C12: マルマル マルマル | D12: 2015/01/01 | E12: =IF(COUNTA($C$4)=0,"教室名を自動表示",$C$4) -> 教室名を自動表示 | F12: 3 | G12: 3 | H12: 珠算・暗算 | I12: 未確認 | J12: 併願も1人1行 | K12: 6,500円（例） | L12: 13行目から入力
A13: =IF(COUNTA(B13:D13,F13:J13)=0,"",ROW()-12) | E13: =IF(COUNTA(B13:D13,F13:J13)=0,"",IF(COUNTA($C$4)=0,"",$C$4)) | K13: =IF(COUNTA(B13:D13,F13:J13)=0,"",IF(OR(AND(F13<>"",ISERROR(VLOOKUP(VALUE(F13),料金表!$A$6:$B$8,2,FALSE()))),AND(G13<>"",ISERROR(VLOOKUP(VALUE(G13),料金表!$D$6:$E$8,2,FALSE()))),AND(H13<>"",ISERROR(VLOOKUP(H13,料金表!$G$6:$H$8,2,FALSE())))),"要確認",IF(F13="",0,VLOOKUP(VALUE(F13),料金表!$A$6:$B$8,2,FALSE()))+IF(G13="",0,VLOOKUP(VALUE(G13),料金表!$D$6:$E$8,2,FALSE()))+IF(H13="",0,VLOOKUP(H13,料金表!$G$6:$H$8,2,FALSE())))) | L13: =IF(COUNTA(B13:D13,F13:J13)=0,"",IF(OR(B13="",C13="",D13=""),"要確認：氏名・カナ・生年月日",IF(NOT(AND(ISTEXT(B13),LEN(B13)-LEN(SUBSTITUTE(B13," ",""))=1,LEFT(B13,1)<>" ",RIGHT(B13,1)<>" ",ISERROR(SEARCH(" ",B13)))),"要確認：姓と名に半角スペース",IF(NOT(IFERROR(AND(ISTEXT(D13),LEN(D13)>=8,LEN(D13)<=10,MID(D13,5,1)="/",LEN(D13)-LEN(SUBSTITUTE(D13,"/",""))=2,FIND("/",D13,6)>=7,FIND("/",D13,6)<=8,LEN(D13)-FIND("/",D13,6)>=1,LEN(D13)-FIND("/",D13,6)<=2,YEAR(DATE(VALUE(LEFT(D13,4)),VALUE(MID(D13,6,FIND("/",D13,6)-6)),VALUE(MID(D13,FIND("/",D13,6)+1,2))))=VALUE(LEFT(D13,4)),MONTH(DATE(VALUE(LEFT(D13,4)),VALUE(MID(D13,6,FIND("/",D13,6)-6)),VALUE(MID(D13,FIND("/",D13,6)+1,2))))=VALUE(MID(D13,6,FIND("/",D13,6)-6)),DAY(DATE(VALUE(LEFT(D13,4)),VALUE(MID(D13,6,FIND("/",D13,6)-6)),VALUE(MID(D13,FIND("/",D13,6)+1,2))))=VALUE(MID(D13,FIND("/",D13,6)+1,2)),DATE(VALUE(LEFT(D13,4)),VALUE(MID(D13,6,FIND("/",D13,6)-6)),VALUE(MID(D13,FIND("/",D13,6)+1,2)))>=DATE(1900,1,1),DATE(VALUE(LEFT(D13,4)),VALUE(MID(D13,6,FIND("/",D13,6)-6)),VALUE(MID(D13,FIND("/",D13,6)+1,2)))<=$B$3,NOT(AND(VALUE(LEFT(D13,4))=1900,VALUE(MID(D13,6,FIND("/",D13,6)-6))=2,VALUE(MID(D13,FIND("/",D13,6)+1,2))=29))),FALSE())),"要確認：生年月日は西暦/月/日",IF(COUNTA(F13:H13)=0,"要確認：受験種目",IF(NOT(ISNUMBER(K13)),"要確認：級・段位",IF(AND(I13<>"",NOT(OR(I13="未確認",I13="はい",I13="いいえ"))),"要確認：初受験",IF(OR(AND(F13<>"",COUNTIFS($B$13:$B$212,B13,$M$13:$M$212,M13,$F$13:$F$212,F13)>1),AND(G13<>"",COUNTIFS($B$13:$B$212,B13,$M$13:$M$212,M13,$G$13:$G$212,G13)>1),AND(H13<>"",COUNTIFS($B$13:$B$212,B13,$M$13:$M$212,M13,$H$13:$H$212,H13)>1)),"要確認：同じ種目・級が重複","")))))))) | M13: =IF(D13="","",IFERROR(DATE(VALUE(LEFT(D13,4)),VALUE(MID(D13,6,FIND("/",D13,6)-6)),VALUE(MID(D13,FIND("/",D13,6)+1,2))),""))
A14: =IF(COUNTA(B14:D14,F14:J14)=0,"",ROW()-12) | E14: =IF(COUNTA(B14:D14,F14:J14)=0,"",IF(COUNTA($C$4)=0,"",$C$4)) | K14: =IF(COUNTA(B14:D14,F14:J14)=0,"",IF(OR(AND(F14<>"",ISERROR(VLOOKUP(VALUE(F14),料金表!$A$6:$B$8,2,FALSE()))),AND(G14<>"",ISERROR(VLOOKUP(VALUE(G14),料金表!$D$6:$E$8,2,FALSE()))),AND(H14<>"",ISERROR(VLOOKUP(H14,料金表!$G$6:$H$8,2,FALSE())))),"要確認",IF(F14="",0,VLOOKUP(VALUE(F14),料金表!$A$6:$B$8,2,FALSE()))+IF(G14="",0,VLOOKUP(VALUE(G14),料金表!$D$6:$E$8,2,FALSE()))+IF(H14="",0,VLOOKUP(H14,料金表!$G$6:$H$8,2,FALSE())))) | L14: =IF(COUNTA(B14:D14,F14:J14)=0,"",IF(OR(B14="",C14="",D14=""),"要確認：氏名・カナ・生年月日",IF(NOT(AND(ISTEXT(B14),LEN(B14)-LEN(SUBSTITUTE(B14," ",""))=1,LEFT(B14,1)<>" ",RIGHT(B14,1)<>" ",ISERROR(SEARCH(" ",B14)))),"要確認：姓と名に半角スペース",IF(NOT(IFERROR(AND(ISTEXT(D14),LEN(D14)>=8,LEN(D14)<=10,MID(D14,5,1)="/",LEN(D14)-LEN(SUBSTITUTE(D14,"/",""))=2,FIND("/",D14,6)>=7,FIND("/",D14,6)<=8,LEN(D14)-FIND("/",D14,6)>=1,LEN(D14)-FIND("/",D14,6)<=2,YEAR(DATE(VALUE(LEFT(D14,4)),VALUE(MID(D14,6,FIND("/",D14,6)-6)),VALUE(MID(D14,FIND("/",D14,6)+1,2))))=VALUE(LEFT(D14,4)),MONTH(DATE(VALUE(LEFT(D14,4)),VALUE(MID(D14,6,FIND("/",D14,6)-6)),VALUE(MID(D14,FIND("/",D14,6)+1,2))))=VALUE(MID(D14,6,FIND("/",D14,6)-6)),DAY(DATE(VALUE(LEFT(D14,4)),VALUE(MID(D14,6,FIND("/",D14,6)-6)),VALUE(MID(D14,FIND("/",D14,6)+1,2))))=VALUE(MID(D14,FIND("/",D14,6)+1,2)),DATE(VALUE(LEFT(D14,4)),VALUE(MID(D14,6,FIND("/",D14,6)-6)),VALUE(MID(D14,FIND("/",D14,6)+1,2)))>=DATE(1900,1,1),DATE(VALUE(LEFT(D14,4)),VALUE(MID(D14,6,FIND("/",D14,6)-6)),VALUE(MID(D14,FIND("/",D14,6)+1,2)))<=$B$3,NOT(AND(VALUE(LEFT(D14,4))=1900,VALUE(MID(D14,6,FIND("/",D14,6)-6))=2,VALUE(MID(D14,FIND("/",D14,6)+1,2))=29))),FALSE())),"要確認：生年月日は西暦/月/日",IF(COUNTA(F14:H14)=0,"要確認：受験種目",IF(NOT(ISNUMBER(K14)),"要確認：級・段位",IF(AND(I14<>"",NOT(OR(I14="未確認",I14="はい",I14="いいえ"))),"要確認：初受験",IF(OR(AND(F14<>"",COUNTIFS($B$13:$B$212,B14,$M$13:$M$212,M14,$F$13:$F$212,F14)>1),AND(G14<>"",COUNTIFS($B$13:$B$212,B14,$M$13:$M$212,M14,$G$13:$G$212,G14)>1),AND(H14<>"",COUNTIFS($B$13:$B$212,B14,$M$13:$M$212,M14,$H$13:$H$212,H14)>1)),"要確認：同じ種目・級が重複","")))))))) | M14: =IF(D14="","",IFERROR(DATE(VALUE(LEFT(D14,4)),VALUE(MID(D14,6,FIND("/",D14,6)-6)),VALUE(MID(D14,FIND("/",D14,6)+1,2))),""))
A15: =IF(COUNTA(B15:D15,F15:J15)=0,"",ROW()-12) | E15: =IF(COUNTA(B15:D15,F15:J15)=0,"",IF(COUNTA($C$4)=0,"",$C$4)) | K15: =IF(COUNTA(B15:D15,F15:J15)=0,"",IF(OR(AND(F15<>"",ISERROR(VLOOKUP(VALUE(F15),料金表!$A$6:$B$8,2,FALSE()))),AND(G15<>"",ISERROR(VLOOKUP(VALUE(G15),料金表!$D$6:$E$8,2,FALSE()))),AND(H15<>"",ISERROR(VLOOKUP(H15,料金表!$G$6:$H$8,2,FALSE())))),"要確認",IF(F15="",0,VLOOKUP(VALUE(F15),料金表!$A$6:$B$8,2,FALSE()))+IF(G15="",0,VLOOKUP(VALUE(G15),料金表!$D$6:$E$8,2,FALSE()))+IF(H15="",0,VLOOKUP(H15,料金表!$G$6:$H$8,2,FALSE())))) | L15: =IF(COUNTA(B15:D15,F15:J15)=0,"",IF(OR(B15="",C15="",D15=""),"要確認：氏名・カナ・生年月日",IF(NOT(AND(ISTEXT(B15),LEN(B15)-LEN(SUBSTITUTE(B15," ",""))=1,LEFT(B15,1)<>" ",RIGHT(B15,1)<>" ",ISERROR(SEARCH(" ",B15)))),"要確認：姓と名に半角スペース",IF(NOT(IFERROR(AND(ISTEXT(D15),LEN(D15)>=8,LEN(D15)<=10,MID(D15,5,1)="/",LEN(D15)-LEN(SUBSTITUTE(D15,"/",""))=2,FIND("/",D15,6)>=7,FIND("/",D15,6)<=8,LEN(D15)-FIND("/",D15,6)>=1,LEN(D15)-FIND("/",D15,6)<=2,YEAR(DATE(VALUE(LEFT(D15,4)),VALUE(MID(D15,6,FIND("/",D15,6)-6)),VALUE(MID(D15,FIND("/",D15,6)+1,2))))=VALUE(LEFT(D15,4)),MONTH(DATE(VALUE(LEFT(D15,4)),VALUE(MID(D15,6,FIND("/",D15,6)-6)),VALUE(MID(D15,FIND("/",D15,6)+1,2))))=VALUE(MID(D15,6,FIND("/",D15,6)-6)),DAY(DATE(VALUE(LEFT(D15,4)),VALUE(MID(D15,6,FIND("/",D15,6)-6)),VALUE(MID(D15,FIND("/",D15,6)+1,2))))=VALUE(MID(D15,FIND("/",D15,6)+1,2)),DATE(VALUE(LEFT(D15,4)),VALUE(MID(D15,6,FIND("/",D15,6)-6)),VALUE(MID(D15,FIND("/",D15,6)+1,2)))>=DATE(1900,1,1),DATE(VALUE(LEFT(D15,4)),VALUE(MID(D15,6,FIND("/",D15,6)-6)),VALUE(MID(D15,FIND("/",D15,6)+1,2)))<=$B$3,NOT(AND(VALUE(LEFT(D15,4))=1900,VALUE(MID(D15,6,FIND("/",D15,6)-6))=2,VALUE(MID(D15,FIND("/",D15,6)+1,2))=29))),FALSE())),"要確認：生年月日は西暦/月/日",IF(COUNTA(F15:H15)=0,"要確認：受験種目",IF(NOT(ISNUMBER(K15)),"要確認：級・段位",IF(AND(I15<>"",NOT(OR(I15="未確認",I15="はい",I15="いいえ"))),"要確認：初受験",IF(OR(AND(F15<>"",COUNTIFS($B$13:$B$212,B15,$M$13:$M$212,M15,$F$13:$F$212,F15)>1),AND(G15<>"",COUNTIFS($B$13:$B$212,B15,$M$13:$M$212,M15,$G$13:$G$212,G15)>1),AND(H15<>"",COUNTIFS($B$13:$B$212,B15,$M$13:$M$212,M15,$H$13:$H$212,H15)>1)),"要確認：同じ種目・級が重複","")))))))) | M15: =IF(D15="","",IFERROR(DATE(VALUE(LEFT(D15,4)),VALUE(MID(D15,6,FIND("/",D15,6)-6)),VALUE(MID(D15,FIND("/",D15,6)+1,2))),""))
A16: =IF(COUNTA(B16:D16,F16:J16)=0,"",ROW()-12) | E16: =IF(COUNTA(B16:D16,F16:J16)=0,"",IF(COUNTA($C$4)=0,"",$C$4)) | K16: =IF(COUNTA(B16:D16,F16:J16)=0,"",IF(OR(AND(F16<>"",ISERROR(VLOOKUP(VALUE(F16),料金表!$A$6:$B$8,2,FALSE()))),AND(G16<>"",ISERROR(VLOOKUP(VALUE(G16),料金表!$D$6:$E$8,2,FALSE()))),AND(H16<>"",ISERROR(VLOOKUP(H16,料金表!$G$6:$H$8,2,FALSE())))),"要確認",IF(F16="",0,VLOOKUP(VALUE(F16),料金表!$A$6:$B$8,2,FALSE()))+IF(G16="",0,VLOOKUP(VALUE(G16),料金表!$D$6:$E$8,2,FALSE()))+IF(H16="",0,VLOOKUP(H16,料金表!$G$6:$H$8,2,FALSE())))) | L16: =IF(COUNTA(B16:D16,F16:J16)=0,"",IF(OR(B16="",C16="",D16=""),"要確認：氏名・カナ・生年月日",IF(NOT(AND(ISTEXT(B16),LEN(B16)-LEN(SUBSTITUTE(B16," ",""))=1,LEFT(B16,1)<>" ",RIGHT(B16,1)<>" ",ISERROR(SEARCH(" ",B16)))),"要確認：姓と名に半角スペース",IF(NOT(IFERROR(AND(ISTEXT(D16),LEN(D16)>=8,LEN(D16)<=10,MID(D16,5,1)="/",LEN(D16)-LEN(SUBSTITUTE(D16,"/",""))=2,FIND("/",D16,6)>=7,FIND("/",D16,6)<=8,LEN(D16)-FIND("/",D16,6)>=1,LEN(D16)-FIND("/",D16,6)<=2,YEAR(DATE(VALUE(LEFT(D16,4)),VALUE(MID(D16,6,FIND("/",D16,6)-6)),VALUE(MID(D16,FIND("/",D16,6)+1,2))))=VALUE(LEFT(D16,4)),MONTH(DATE(VALUE(LEFT(D16,4)),VALUE(MID(D16,6,FIND("/",D16,6)-6)),VALUE(MID(D16,FIND("/",D16,6)+1,2))))=VALUE(MID(D16,6,FIND("/",D16,6)-6)),DAY(DATE(VALUE(LEFT(D16,4)),VALUE(MID(D16,6,FIND("/",D16,6)-6)),VALUE(MID(D16,FIND("/",D16,6)+1,2))))=VALUE(MID(D16,FIND("/",D16,6)+1,2)),DATE(VALUE(LEFT(D16,4)),VALUE(MID(D16,6,FIND("/",D16,6)-6)),VALUE(MID(D16,FIND("/",D16,6)+1,2)))>=DATE(1900,1,1),DATE(VALUE(LEFT(D16,4)),VALUE(MID(D16,6,FIND("/",D16,6)-6)),VALUE(MID(D16,FIND("/",D16,6)+1,2)))<=$B$3,NOT(AND(VALUE(LEFT(D16,4))=1900,VALUE(MID(D16,6,FIND("/",D16,6)-6))=2,VALUE(MID(D16,FIND("/",D16,6)+1,2))=29))),FALSE())),"要確認：生年月日は西暦/月/日",IF(COUNTA(F16:H16)=0,"要確認：受験種目",IF(NOT(ISNUMBER(K16)),"要確認：級・段位",IF(AND(I16<>"",NOT(OR(I16="未確認",I16="はい",I16="いいえ"))),"要確認：初受験",IF(OR(AND(F16<>"",COUNTIFS($B$13:$B$212,B16,$M$13:$M$212,M16,$F$13:$F$212,F16)>1),AND(G16<>"",COUNTIFS($B$13:$B$212,B16,$M$13:$M$212,M16,$G$13:$G$212,G16)>1),AND(H16<>"",COUNTIFS($B$13:$B$212,B16,$M$13:$M$212,M16,$H$13:$H$212,H16)>1)),"要確認：同じ種目・級が重複","")))))))) | M16: =IF(D16="","",IFERROR(DATE(VALUE(LEFT(D16,4)),VALUE(MID(D16,6,FIND("/",D16,6)-6)),VALUE(MID(D16,FIND("/",D16,6)+1,2))),""))
A17: =IF(COUNTA(B17:D17,F17:J17)=0,"",ROW()-12) | E17: =IF(COUNTA(B17:D17,F17:J17)=0,"",IF(COUNTA($C$4)=0,"",$C$4)) | K17: =IF(COUNTA(B17:D17,F17:J17)=0,"",IF(OR(AND(F17<>"",ISERROR(VLOOKUP(VALUE(F17),料金表!$A$6:$B$8,2,FALSE()))),AND(G17<>"",ISERROR(VLOOKUP(VALUE(G17),料金表!$D$6:$E$8,2,FALSE()))),AND(H17<>"",ISERROR(VLOOKUP(H17,料金表!$G$6:$H$8,2,FALSE())))),"要確認",IF(F17="",0,VLOOKUP(VALUE(F17),料金表!$A$6:$B$8,2,FALSE()))+IF(G17="",0,VLOOKUP(VALUE(G17),料金表!$D$6:$E$8,2,FALSE()))+IF(H17="",0,VLOOKUP(H17,料金表!$G$6:$H$8,2,FALSE())))) | L17: =IF(COUNTA(B17:D17,F17:J17)=0,"",IF(OR(B17="",C17="",D17=""),"要確認：氏名・カナ・生年月日",IF(NOT(AND(ISTEXT(B17),LEN(B17)-LEN(SUBSTITUTE(B17," ",""))=1,LEFT(B17,1)<>" ",RIGHT(B17,1)<>" ",ISERROR(SEARCH(" ",B17)))),"要確認：姓と名に半角スペース",IF(NOT(IFERROR(AND(ISTEXT(D17),LEN(D17)>=8,LEN(D17)<=10,MID(D17,5,1)="/",LEN(D17)-LEN(SUBSTITUTE(D17,"/",""))=2,FIND("/",D17,6)>=7,FIND("/",D17,6)<=8,LEN(D17)-FIND("/",D17,6)>=1,LEN(D17)-FIND("/",D17,6)<=2,YEAR(DATE(VALUE(LEFT(D17,4)),VALUE(MID(D17,6,FIND("/",D17,6)-6)),VALUE(MID(D17,FIND("/",D17,6)+1,2))))=VALUE(LEFT(D17,4)),MONTH(DATE(VALUE(LEFT(D17,4)),VALUE(MID(D17,6,FIND("/",D17,6)-6)),VALUE(MID(D17,FIND("/",D17,6)+1,2))))=VALUE(MID(D17,6,FIND("/",D17,6)-6)),DAY(DATE(VALUE(LEFT(D17,4)),VALUE(MID(D17,6,FIND("/",D17,6)-6)),VALUE(MID(D17,FIND("/",D17,6)+1,2))))=VALUE(MID(D17,FIND("/",D17,6)+1,2)),DATE(VALUE(LEFT(D17,4)),VALUE(MID(D17,6,FIND("/",D17,6)-6)),VALUE(MID(D17,FIND("/",D17,6)+1,2)))>=DATE(1900,1,1),DATE(VALUE(LEFT(D17,4)),VALUE(MID(D17,6,FIND("/",D17,6)-6)),VALUE(MID(D17,FIND("/",D17,6)+1,2)))<=$B$3,NOT(AND(VALUE(LEFT(D17,4))=1900,VALUE(MID(D17,6,FIND("/",D17,6)-6))=2,VALUE(MID(D17,FIND("/",D17,6)+1,2))=29))),FALSE())),"要確認：生年月日は西暦/月/日",IF(COUNTA(F17:H17)=0,"要確認：受験種目",IF(NOT(ISNUMBER(K17)),"要確認：級・段位",IF(AND(I17<>"",NOT(OR(I17="未確認",I17="はい",I17="いいえ"))),"要確認：初受験",IF(OR(AND(F17<>"",COUNTIFS($B$13:$B$212,B17,$M$13:$M$212,M17,$F$13:$F$212,F17)>1),AND(G17<>"",COUNTIFS($B$13:$B$212,B17,$M$13:$M$212,M17,$G$13:$G$212,G17)>1),AND(H17<>"",COUNTIFS($B$13:$B$212,B17,$M$13:$M$212,M17,$H$13:$H$212,H17)>1)),"要確認：同じ種目・級が重複","")))))))) | M17: =IF(D17="","",IFERROR(DATE(VALUE(LEFT(D17,4)),VALUE(MID(D17,6,FIND("/",D17,6)-6)),VALUE(MID(D17,FIND("/",D17,6)+1,2))),""))
A18: =IF(COUNTA(B18:D18,F18:J18)=0,"",ROW()-12) | E18: =IF(COUNTA(B18:D18,F18:J18)=0,"",IF(COUNTA($C$4)=0,"",$C$4)) | K18: =IF(COUNTA(B18:D18,F18:J18)=0,"",IF(OR(AND(F18<>"",ISERROR(VLOOKUP(VALUE(F18),料金表!$A$6:$B$8,2,FALSE()))),AND(G18<>"",ISERROR(VLOOKUP(VALUE(G18),料金表!$D$6:$E$8,2,FALSE()))),AND(H18<>"",ISERROR(VLOOKUP(H18,料金表!$G$6:$H$8,2,FALSE())))),"要確認",IF(F18="",0,VLOOKUP(VALUE(F18),料金表!$A$6:$B$8,2,FALSE()))+IF(G18="",0,VLOOKUP(VALUE(G18),料金表!$D$6:$E$8,2,FALSE()))+IF(H18="",0,VLOOKUP(H18,料金表!$G$6:$H$8,2,FALSE())))) | L18: =IF(COUNTA(B18:D18,F18:J18)=0,"",IF(OR(B18="",C18="",D18=""),"要確認：氏名・カナ・生年月日",IF(NOT(AND(ISTEXT(B18),LEN(B18)-LEN(SUBSTITUTE(B18," ",""))=1,LEFT(B18,1)<>" ",RIGHT(B18,1)<>" ",ISERROR(SEARCH(" ",B18)))),"要確認：姓と名に半角スペース",IF(NOT(IFERROR(AND(ISTEXT(D18),LEN(D18)>=8,LEN(D18)<=10,MID(D18,5,1)="/",LEN(D18)-LEN(SUBSTITUTE(D18,"/",""))=2,FIND("/",D18,6)>=7,FIND("/",D18,6)<=8,LEN(D18)-FIND("/",D18,6)>=1,LEN(D18)-FIND("/",D18,6)<=2,YEAR(DATE(VALUE(LEFT(D18,4)),VALUE(MID(D18,6,FIND("/",D18,6)-6)),VALUE(MID(D18,FIND("/",D18,6)+1,2))))=VALUE(LEFT(D18,4)),MONTH(DATE(VALUE(LEFT(D18,4)),VALUE(MID(D18,6,FIND("/",D18,6)-6)),VALUE(MID(D18,FIND("/",D18,6)+1,2))))=VALUE(MID(D18,6,FIND("/",D18,6)-6)),DAY(DATE(VALUE(LEFT(D18,4)),VALUE(MID(D18,6,FIND("/",D18,6)-6)),VALUE(MID(D18,FIND("/",D18,6)+1,2))))=VALUE(MID(D18,FIND("/",D18,6)+1,2)),DATE(VALUE(LEFT(D18,4)),VALUE(MID(D18,6,FIND("/",D18,6)-6)),VALUE(MID(D18,FIND("/",D18,6)+1,2)))>=DATE(1900,1,1),DATE(VALUE(LEFT(D18,4)),VALUE(MID(D18,6,FIND("/",D18,6)-6)),VALUE(MID(D18,FIND("/",D18,6)+1,2)))<=$B$3,NOT(AND(VALUE(LEFT(D18,4))=1900,VALUE(MID(D18,6,FIND("/",D18,6)-6))=2,VALUE(MID(D18,FIND("/",D18,6)+1,2))=29))),FALSE())),"要確認：生年月日は西暦/月/日",IF(COUNTA(F18:H18)=0,"要確認：受験種目",IF(NOT(ISNUMBER(K18)),"要確認：級・段位",IF(AND(I18<>"",NOT(OR(I18="未確認",I18="はい",I18="いいえ"))),"要確認：初受験",IF(OR(AND(F18<>"",COUNTIFS($B$13:$B$212,B18,$M$13:$M$212,M18,$F$13:$F$212,F18)>1),AND(G18<>"",COUNTIFS($B$13:$B$212,B18,$M$13:$M$212,M18,$G$13:$G$212,G18)>1),AND(H18<>"",COUNTIFS($B$13:$B$212,B18,$M$13:$M$212,M18,$H$13:$H$212,H18)>1)),"要確認：同じ種目・級が重複","")))))))) | M18: =IF(D18="","",IFERROR(DATE(VALUE(LEFT(D18,4)),VALUE(MID(D18,6,FIND("/",D18,6)-6)),VALUE(MID(D18,FIND("/",D18,6)+1,2))),""))
A19: =IF(COUNTA(B19:D19,F19:J19)=0,"",ROW()-12) | E19: =IF(COUNTA(B19:D19,F19:J19)=0,"",IF(COUNTA($C$4)=0,"",$C$4)) | K19: =IF(COUNTA(B19:D19,F19:J19)=0,"",IF(OR(AND(F19<>"",ISERROR(VLOOKUP(VALUE(F19),料金表!$A$6:$B$8,2,FALSE()))),AND(G19<>"",ISERROR(VLOOKUP(VALUE(G19),料金表!$D$6:$E$8,2,FALSE()))),AND(H19<>"",ISERROR(VLOOKUP(H19,料金表!$G$6:$H$8,2,FALSE())))),"要確認",IF(F19="",0,VLOOKUP(VALUE(F19),料金表!$A$6:$B$8,2,FALSE()))+IF(G19="",0,VLOOKUP(VALUE(G19),料金表!$D$6:$E$8,2,FALSE()))+IF(H19="",0,VLOOKUP(H19,料金表!$G$6:$H$8,2,FALSE())))) | L19: =IF(COUNTA(B19:D19,F19:J19)=0,"",IF(OR(B19="",C19="",D19=""),"要確認：氏名・カナ・生年月日",IF(NOT(AND(ISTEXT(B19),LEN(B19)-LEN(SUBSTITUTE(B19," ",""))=1,LEFT(B19,1)<>" ",RIGHT(B19,1)<>" ",ISERROR(SEARCH(" ",B19)))),"要確認：姓と名に半角スペース",IF(NOT(IFERROR(AND(ISTEXT(D19),LEN(D19)>=8,LEN(D19)<=10,MID(D19,5,1)="/",LEN(D19)-LEN(SUBSTITUTE(D19,"/",""))=2,FIND("/",D19,6)>=7,FIND("/",D19,6)<=8,LEN(D19)-FIND("/",D19,6)>=1,LEN(D19)-FIND("/",D19,6)<=2,YEAR(DATE(VALUE(LEFT(D19,4)),VALUE(MID(D19,6,FIND("/",D19,6)-6)),VALUE(MID(D19,FIND("/",D19,6)+1,2))))=VALUE(LEFT(D19,4)),MONTH(DATE(VALUE(LEFT(D19,4)),VALUE(MID(D19,6,FIND("/",D19,6)-6)),VALUE(MID(D19,FIND("/",D19,6)+1,2))))=VALUE(MID(D19,6,FIND("/",D19,6)-6)),DAY(DATE(VALUE(LEFT(D19,4)),VALUE(MID(D19,6,FIND("/",D19,6)-6)),VALUE(MID(D19,FIND("/",D19,6)+1,2))))=VALUE(MID(D19,FIND("/",D19,6)+1,2)),DATE(VALUE(LEFT(D19,4)),VALUE(MID(D19,6,FIND("/",D19,6)-6)),VALUE(MID(D19,FIND("/",D19,6)+1,2)))>=DATE(1900,1,1),DATE(VALUE(LEFT(D19,4)),VALUE(MID(D19,6,FIND("/",D19,6)-6)),VALUE(MID(D19,FIND("/",D19,6)+1,2)))<=$B$3,NOT(AND(VALUE(LEFT(D19,4))=1900,VALUE(MID(D19,6,FIND("/",D19,6)-6))=2,VALUE(MID(D19,FIND("/",D19,6)+1,2))=29))),FALSE())),"要確認：生年月日は西暦/月/日",IF(COUNTA(F19:H19)=0,"要確認：受験種目",IF(NOT(ISNUMBER(K19)),"要確認：級・段位",IF(AND(I19<>"",NOT(OR(I19="未確認",I19="はい",I19="いいえ"))),"要確認：初受験",IF(OR(AND(F19<>"",COUNTIFS($B$13:$B$212,B19,$M$13:$M$212,M19,$F$13:$F$212,F19)>1),AND(G19<>"",COUNTIFS($B$13:$B$212,B19,$M$13:$M$212,M19,$G$13:$G$212,G19)>1),AND(H19<>"",COUNTIFS($B$13:$B$212,B19,$M$13:$M$212,M19,$H$13:$H$212,H19)>1)),"要確認：同じ種目・級が重複","")))))))) | M19: =IF(D19="","",IFERROR(DATE(VALUE(LEFT(D19,4)),VALUE(MID(D19,6,FIND("/",D19,6)-6)),VALUE(MID(D19,FIND("/",D19,6)+1,2))),""))
A20: =IF(COUNTA(B20:D20,F20:J20)=0,"",ROW()-12) | E20: =IF(COUNTA(B20:D20,F20:J20)=0,"",IF(COUNTA($C$4)=0,"",$C$4)) | K20: =IF(COUNTA(B20:D20,F20:J20)=0,"",IF(OR(AND(F20<>"",ISERROR(VLOOKUP(VALUE(F20),料金表!$A$6:$B$8,2,FALSE()))),AND(G20<>"",ISERROR(VLOOKUP(VALUE(G20),料金表!$D$6:$E$8,2,FALSE()))),AND(H20<>"",ISERROR(VLOOKUP(H20,料金表!$G$6:$H$8,2,FALSE())))),"要確認",IF(F20="",0,VLOOKUP(VALUE(F20),料金表!$A$6:$B$8,2,FALSE()))+IF(G20="",0,VLOOKUP(VALUE(G20),料金表!$D$6:$E$8,2,FALSE()))+IF(H20="",0,VLOOKUP(H20,料金表!$G$6:$H$8,2,FALSE())))) | L20: =IF(COUNTA(B20:D20,F20:J20)=0,"",IF(OR(B20="",C20="",D20=""),"要確認：氏名・カナ・生年月日",IF(NOT(AND(ISTEXT(B20),LEN(B20)-LEN(SUBSTITUTE(B20," ",""))=1,LEFT(B20,1)<>" ",RIGHT(B20,1)<>" ",ISERROR(SEARCH(" ",B20)))),"要確認：姓と名に半角スペース",IF(NOT(IFERROR(AND(ISTEXT(D20),LEN(D20)>=8,LEN(D20)<=10,MID(D20,5,1)="/",LEN(D20)-LEN(SUBSTITUTE(D20,"/",""))=2,FIND("/",D20,6)>=7,FIND("/",D20,6)<=8,LEN(D20)-FIND("/",D20,6)>=1,LEN(D20)-FIND("/",D20,6)<=2,YEAR(DATE(VALUE(LEFT(D20,4)),VALUE(MID(D20,6,FIND("/",D20,6)-6)),VALUE(MID(D20,FIND("/",D20,6)+1,2))))=VALUE(LEFT(D20,4)),MONTH(DATE(VALUE(LEFT(D20,4)),VALUE(MID(D20,6,FIND("/",D20,6)-6)),VALUE(MID(D20,FIND("/",D20,6)+1,2))))=VALUE(MID(D20,6,FIND("/",D20,6)-6)),DAY(DATE(VALUE(LEFT(D20,4)),VALUE(MID(D20,6,FIND("/",D20,6)-6)),VALUE(MID(D20,FIND("/",D20,6)+1,2))))=VALUE(MID(D20,FIND("/",D20,6)+1,2)),DATE(VALUE(LEFT(D20,4)),VALUE(MID(D20,6,FIND("/",D20,6)-6)),VALUE(MID(D20,FIND("/",D20,6)+1,2)))>=DATE(1900,1,1),DATE(VALUE(LEFT(D20,4)),VALUE(MID(D20,6,FIND("/",D20,6)-6)),VALUE(MID(D20,FIND("/",D20,6)+1,2)))<=$B$3,NOT(AND(VALUE(LEFT(D20,4))=1900,VALUE(MID(D20,6,FIND("/",D20,6)-6))=2,VALUE(MID(D20,FIND("/",D20,6)+1,2))=29))),FALSE())),"要確認：生年月日は西暦/月/日",IF(COUNTA(F20:H20)=0,"要確認：受験種目",IF(NOT(ISNUMBER(K20)),"要確認：級・段位",IF(AND(I20<>"",NOT(OR(I20="未確認",I20="はい",I20="いいえ"))),"要確認：初受験",IF(OR(AND(F20<>"",COUNTIFS($B$13:$B$212,B20,$M$13:$M$212,M20,$F$13:$F$212,F20)>1),AND(G20<>"",COUNTIFS($B$13:$B$212,B20,$M$13:$M$212,M20,$G$13:$G$212,G20)>1),AND(H20<>"",COUNTIFS($B$13:$B$212,B20,$M$13:$M$212,M20,$H$13:$H$212,H20)>1)),"要確認：同じ種目・級が重複","")))))))) | M20: =IF(D20="","",IFERROR(DATE(VALUE(LEFT(D20,4)),VALUE(MID(D20,6,FIND("/",D20,6)-6)),VALUE(MID(D20,FIND("/",D20,6)+1,2))),""))
A21: =IF(COUNTA(B21:D21,F21:J21)=0,"",ROW()-12) | E21: =IF(COUNTA(B21:D21,F21:J21)=0,"",IF(COUNTA($C$4)=0,"",$C$4)) | K21: =IF(COUNTA(B21:D21,F21:J21)=0,"",IF(OR(AND(F21<>"",ISERROR(VLOOKUP(VALUE(F21),料金表!$A$6:$B$8,2,FALSE()))),AND(G21<>"",ISERROR(VLOOKUP(VALUE(G21),料金表!$D$6:$E$8,2,FALSE()))),AND(H21<>"",ISERROR(VLOOKUP(H21,料金表!$G$6:$H$8,2,FALSE())))),"要確認",IF(F21="",0,VLOOKUP(VALUE(F21),料金表!$A$6:$B$8,2,FALSE()))+IF(G21="",0,VLOOKUP(VALUE(G21),料金表!$D$6:$E$8,2,FALSE()))+IF(H21="",0,VLOOKUP(H21,料金表!$G$6:$H$8,2,FALSE())))) | L21: =IF(COUNTA(B21:D21,F21:J21)=0,"",IF(OR(B21="",C21="",D21=""),"要確認：氏名・カナ・生年月日",IF(NOT(AND(ISTEXT(B21),LEN(B21)-LEN(SUBSTITUTE(B21," ",""))=1,LEFT(B21,1)<>" ",RIGHT(B21,1)<>" ",ISERROR(SEARCH(" ",B21)))),"要確認：姓と名に半角スペース",IF(NOT(IFERROR(AND(ISTEXT(D21),LEN(D21)>=8,LEN(D21)<=10,MID(D21,5,1)="/",LEN(D21)-LEN(SUBSTITUTE(D21,"/",""))=2,FIND("/",D21,6)>=7,FIND("/",D21,6)<=8,LEN(D21)-FIND("/",D21,6)>=1,LEN(D21)-FIND("/",D21,6)<=2,YEAR(DATE(VALUE(LEFT(D21,4)),VALUE(MID(D21,6,FIND("/",D21,6)-6)),VALUE(MID(D21,FIND("/",D21,6)+1,2))))=VALUE(LEFT(D21,4)),MONTH(DATE(VALUE(LEFT(D21,4)),VALUE(MID(D21,6,FIND("/",D21,6)-6)),VALUE(MID(D21,FIND("/",D21,6)+1,2))))=VALUE(MID(D21,6,FIND("/",D21,6)-6)),DAY(DATE(VALUE(LEFT(D21,4)),VALUE(MID(D21,6,FIND("/",D21,6)-6)),VALUE(MID(D21,FIND("/",D21,6)+1,2))))=VALUE(MID(D21,FIND("/",D21,6)+1,2)),DATE(VALUE(LEFT(D21,4)),VALUE(MID(D21,6,FIND("/",D21,6)-6)),VALUE(MID(D21,FIND("/",D21,6)+1,2)))>=DATE(1900,1,1),DATE(VALUE(LEFT(D21,4)),VALUE(MID(D21,6,FIND("/",D21,6)-6)),VALUE(MID(D21,FIND("/",D21,6)+1,2)))<=$B$3,NOT(AND(VALUE(LEFT(D21,4))=1900,VALUE(MID(D21,6,FIND("/",D21,6)-6))=2,VALUE(MID(D21,FIND("/",D21,6)+1,2))=29))),FALSE())),"要確認：生年月日は西暦/月/日",IF(COUNTA(F21:H21)=0,"要確認：受験種目",IF(NOT(ISNUMBER(K21)),"要確認：級・段位",IF(AND(I21<>"",NOT(OR(I21="未確認",I21="はい",I21="いいえ"))),"要確認：初受験",IF(OR(AND(F21<>"",COUNTIFS($B$13:$B$212,B21,$M$13:$M$212,M21,$F$13:$F$212,F21)>1),AND(G21<>"",COUNTIFS($B$13:$B$212,B21,$M$13:$M$212,M21,$G$13:$G$212,G21)>1),AND(H21<>"",COUNTIFS($B$13:$B$212,B21,$M$13:$M$212,M21,$H$13:$H$212,H21)>1)),"要確認：同じ種目・級が重複","")))))))) | M21: =IF(D21="","",IFERROR(DATE(VALUE(LEFT(D21,4)),VALUE(MID(D21,6,FIND("/",D21,6)-6)),VALUE(MID(D21,FIND("/",D21,6)+1,2))),""))
A22: =IF(COUNTA(B22:D22,F22:J22)=0,"",ROW()-12) | E22: =IF(COUNTA(B22:D22,F22:J22)=0,"",IF(COUNTA($C$4)=0,"",$C$4)) | K22: =IF(COUNTA(B22:D22,F22:J22)=0,"",IF(OR(AND(F22<>"",ISERROR(VLOOKUP(VALUE(F22),料金表!$A$6:$B$8,2,FALSE()))),AND(G22<>"",ISERROR(VLOOKUP(VALUE(G22),料金表!$D$6:$E$8,2,FALSE()))),AND(H22<>"",ISERROR(VLOOKUP(H22,料金表!$G$6:$H$8,2,FALSE())))),"要確認",IF(F22="",0,VLOOKUP(VALUE(F22),料金表!$A$6:$B$8,2,FALSE()))+IF(G22="",0,VLOOKUP(VALUE(G22),料金表!$D$6:$E$8,2,FALSE()))+IF(H22="",0,VLOOKUP(H22,料金表!$G$6:$H$8,2,FALSE())))) | L22: =IF(COUNTA(B22:D22,F22:J22)=0,"",IF(OR(B22="",C22="",D22=""),"要確認：氏名・カナ・生年月日",IF(NOT(AND(ISTEXT(B22),LEN(B22)-LEN(SUBSTITUTE(B22," ",""))=1,LEFT(B22,1)<>" ",RIGHT(B22,1)<>" ",ISERROR(SEARCH(" ",B22)))),"要確認：姓と名に半角スペース",IF(NOT(IFERROR(AND(ISTEXT(D22),LEN(D22)>=8,LEN(D22)<=10,MID(D22,5,1)="/",LEN(D22)-LEN(SUBSTITUTE(D22,"/",""))=2,FIND("/",D22,6)>=7,FIND("/",D22,6)<=8,LEN(D22)-FIND("/",D22,6)>=1,LEN(D22)-FIND("/",D22,6)<=2,YEAR(DATE(VALUE(LEFT(D22,4)),VALUE(MID(D22,6,FIND("/",D22,6)-6)),VALUE(MID(D22,FIND("/",D22,6)+1,2))))=VALUE(LEFT(D22,4)),MONTH(DATE(VALUE(LEFT(D22,4)),VALUE(MID(D22,6,FIND("/",D22,6)-6)),VALUE(MID(D22,FIND("/",D22,6)+1,2))))=VALUE(MID(D22,6,FIND("/",D22,6)-6)),DAY(DATE(VALUE(LEFT(D22,4)),VALUE(MID(D22,6,FIND("/",D22,6)-6)),VALUE(MID(D22,FIND("/",D22,6)+1,2))))=VALUE(MID(D22,FIND("/",D22,6)+1,2)),DATE(VALUE(LEFT(D22,4)),VALUE(MID(D22,6,FIND("/",D22,6)-6)),VALUE(MID(D22,FIND("/",D22,6)+1,2)))>=DATE(1900,1,1),DATE(VALUE(LEFT(D22,4)),VALUE(MID(D22,6,FIND("/",D22,6)-6)),VALUE(MID(D22,FIND("/",D22,6)+1,2)))<=$B$3,NOT(AND(VALUE(LEFT(D22,4))=1900,VALUE(MID(D22,6,FIND("/",D22,6)-6))=2,VALUE(MID(D22,FIND("/",D22,6)+1,2))=29))),FALSE())),"要確認：生年月日は西暦/月/日",IF(COUNTA(F22:H22)=0,"要確認：受験種目",IF(NOT(ISNUMBER(K22)),"要確認：級・段位",IF(AND(I22<>"",NOT(OR(I22="未確認",I22="はい",I22="いいえ"))),"要確認：初受験",IF(OR(AND(F22<>"",COUNTIFS($B$13:$B$212,B22,$M$13:$M$212,M22,$F$13:$F$212,F22)>1),AND(G22<>"",COUNTIFS($B$13:$B$212,B22,$M$13:$M$212,M22,$G$13:$G$212,G22)>1),AND(H22<>"",COUNTIFS($B$13:$B$212,B22,$M$13:$M$212,M22,$H$13:$H$212,H22)>1)),"要確認：同じ種目・級が重複","")))))))) | M22: =IF(D22="","",IFERROR(DATE(VALUE(LEFT(D22,4)),VALUE(MID(D22,6,FIND("/",D22,6)-6)),VALUE(MID(D22,FIND("/",D22,6)+1,2))),""))
A23: =IF(COUNTA(B23:D23,F23:J23)=0,"",ROW()-12) | E23: =IF(COUNTA(B23:D23,F23:J23)=0,"",IF(COUNTA($C$4)=0,"",$C$4)) | K23: =IF(COUNTA(B23:D23,F23:J23)=0,"",IF(OR(AND(F23<>"",ISERROR(VLOOKUP(VALUE(F23),料金表!$A$6:$B$8,2,FALSE()))),AND(G23<>"",ISERROR(VLOOKUP(VALUE(G23),料金表!$D$6:$E$8,2,FALSE()))),AND(H23<>"",ISERROR(VLOOKUP(H23,料金表!$G$6:$H$8,2,FALSE())))),"要確認",IF(F23="",0,VLOOKUP(VALUE(F23),料金表!$A$6:$B$8,2,FALSE()))+IF(G23="",0,VLOOKUP(VALUE(G23),料金表!$D$6:$E$8,2,FALSE()))+IF(H23="",0,VLOOKUP(H23,料金表!$G$6:$H$8,2,FALSE())))) | L23: =IF(COUNTA(B23:D23,F23:J23)=0,"",IF(OR(B23="",C23="",D23=""),"要確認：氏名・カナ・生年月日",IF(NOT(AND(ISTEXT(B23),LEN(B23)-LEN(SUBSTITUTE(B23," ",""))=1,LEFT(B23,1)<>" ",RIGHT(B23,1)<>" ",ISERROR(SEARCH(" ",B23)))),"要確認：姓と名に半角スペース",IF(NOT(IFERROR(AND(ISTEXT(D23),LEN(D23)>=8,LEN(D23)<=10,MID(D23,5,1)="/",LEN(D23)-LEN(SUBSTITUTE(D23,"/",""))=2,FIND("/",D23,6)>=7,FIND("/",D23,6)<=8,LEN(D23)-FIND("/",D23,6)>=1,LEN(D23)-FIND("/",D23,6)<=2,YEAR(DATE(VALUE(LEFT(D23,4)),VALUE(MID(D23,6,FIND("/",D23,6)-6)),VALUE(MID(D23,FIND("/",D23,6)+1,2))))=VALUE(LEFT(D23,4)),MONTH(DATE(VALUE(LEFT(D23,4)),VALUE(MID(D23,6,FIND("/",D23,6)-6)),VALUE(MID(D23,FIND("/",D23,6)+1,2))))=VALUE(MID(D23,6,FIND("/",D23,6)-6)),DAY(DATE(VALUE(LEFT(D23,4)),VALUE(MID(D23,6,FIND("/",D23,6)-6)),VALUE(MID(D23,FIND("/",D23,6)+1,2))))=VALUE(MID(D23,FIND("/",D23,6)+1,2)),DATE(VALUE(LEFT(D23,4)),VALUE(MID(D23,6,FIND("/",D23,6)-6)),VALUE(MID(D23,FIND("/",D23,6)+1,2)))>=DATE(1900,1,1),DATE(VALUE(LEFT(D23,4)),VALUE(MID(D23,6,FIND("/",D23,6)-6)),VALUE(MID(D23,FIND("/",D23,6)+1,2)))<=$B$3,NOT(AND(VALUE(LEFT(D23,4))=1900,VALUE(MID(D23,6,FIND("/",D23,6)-6))=2,VALUE(MID(D23,FIND("/",D23,6)+1,2))=29))),FALSE())),"要確認：生年月日は西暦/月/日",IF(COUNTA(F23:H23)=0,"要確認：受験種目",IF(NOT(ISNUMBER(K23)),"要確認：級・段位",IF(AND(I23<>"",NOT(OR(I23="未確認",I23="はい",I23="いいえ"))),"要確認：初受験",IF(OR(AND(F23<>"",COUNTIFS($B$13:$B$212,B23,$M$13:$M$212,M23,$F$13:$F$212,F23)>1),AND(G23<>"",COUNTIFS($B$13:$B$212,B23,$M$13:$M$212,M23,$G$13:$G$212,G23)>1),AND(H23<>"",COUNTIFS($B$13:$B$212,B23,$M$13:$M$212,M23,$H$13:$H$212,H23)>1)),"要確認：同じ種目・級が重複","")))))))) | M23: =IF(D23="","",IFERROR(DATE(VALUE(LEFT(D23,4)),VALUE(MID(D23,6,FIND("/",D23,6)-6)),VALUE(MID(D23,FIND("/",D23,6)+1,2))),""))
A24: =IF(COUNTA(B24:D24,F24:J24)=0,"",ROW()-12) | E24: =IF(COUNTA(B24:D24,F24:J24)=0,"",IF(COUNTA($C$4)=0,"",$C$4)) | K24: =IF(COUNTA(B24:D24,F24:J24)=0,"",IF(OR(AND(F24<>"",ISERROR(VLOOKUP(VALUE(F24),料金表!$A$6:$B$8,2,FALSE()))),AND(G24<>"",ISERROR(VLOOKUP(VALUE(G24),料金表!$D$6:$E$8,2,FALSE()))),AND(H24<>"",ISERROR(VLOOKUP(H24,料金表!$G$6:$H$8,2,FALSE())))),"要確認",IF(F24="",0,VLOOKUP(VALUE(F24),料金表!$A$6:$B$8,2,FALSE()))+IF(G24="",0,VLOOKUP(VALUE(G24),料金表!$D$6:$E$8,2,FALSE()))+IF(H24="",0,VLOOKUP(H24,料金表!$G$6:$H$8,2,FALSE())))) | L24: =IF(COUNTA(B24:D24,F24:J24)=0,"",IF(OR(B24="",C24="",D24=""),"要確認：氏名・カナ・生年月日",IF(NOT(AND(ISTEXT(B24),LEN(B24)-LEN(SUBSTITUTE(B24," ",""))=1,LEFT(B24,1)<>" ",RIGHT(B24,1)<>" ",ISERROR(SEARCH(" ",B24)))),"要確認：姓と名に半角スペース",IF(NOT(IFERROR(AND(ISTEXT(D24),LEN(D24)>=8,LEN(D24)<=10,MID(D24,5,1)="/",LEN(D24)-LEN(SUBSTITUTE(D24,"/",""))=2,FIND("/",D24,6)>=7,FIND("/",D24,6)<=8,LEN(D24)-FIND("/",D24,6)>=1,LEN(D24)-FIND("/",D24,6)<=2,YEAR(DATE(VALUE(LEFT(D24,4)),VALUE(MID(D24,6,FIND("/",D24,6)-6)),VALUE(MID(D24,FIND("/",D24,6)+1,2))))=VALUE(LEFT(D24,4)),MONTH(DATE(VALUE(LEFT(D24,4)),VALUE(MID(D24,6,FIND("/",D24,6)-6)),VALUE(MID(D24,FIND("/",D24,6)+1,2))))=VALUE(MID(D24,6,FIND("/",D24,6)-6)),DAY(DATE(VALUE(LEFT(D24,4)),VALUE(MID(D24,6,FIND("/",D24,6)-6)),VALUE(MID(D24,FIND("/",D24,6)+1,2))))=VALUE(MID(D24,FIND("/",D24,6)+1,2)),DATE(VALUE(LEFT(D24,4)),VALUE(MID(D24,6,FIND("/",D24,6)-6)),VALUE(MID(D24,FIND("/",D24,6)+1,2)))>=DATE(1900,1,1),DATE(VALUE(LEFT(D24,4)),VALUE(MID(D24,6,FIND("/",D24,6)-6)),VALUE(MID(D24,FIND("/",D24,6)+1,2)))<=$B$3,NOT(AND(VALUE(LEFT(D24,4))=1900,VALUE(MID(D24,6,FIND("/",D24,6)-6))=2,VALUE(MID(D24,FIND("/",D24,6)+1,2))=29))),FALSE())),"要確認：生年月日は西暦/月/日",IF(COUNTA(F24:H24)=0,"要確認：受験種目",IF(NOT(ISNUMBER(K24)),"要確認：級・段位",IF(AND(I24<>"",NOT(OR(I24="未確認",I24="はい",I24="いいえ"))),"要確認：初受験",IF(OR(AND(F24<>"",COUNTIFS($B$13:$B$212,B24,$M$13:$M$212,M24,$F$13:$F$212,F24)>1),AND(G24<>"",COUNTIFS($B$13:$B$212,B24,$M$13:$M$212,M24,$G$13:$G$212,G24)>1),AND(H24<>"",COUNTIFS($B$13:$B$212,B24,$M$13:$M$212,M24,$H$13:$H$212,H24)>1)),"要確認：同じ種目・級が重複","")))))))) | M24: =IF(D24="","",IFERROR(DATE(VALUE(LEFT(D24,4)),VALUE(MID(D24,6,FIND("/",D24,6)-6)),VALUE(MID(D24,FIND("/",D24,6)+1,2))),""))
... A212: =IF(COUNTA(B212:D212,F212:J212)=0,"",ROW()-12) | E212: =IF(COUNTA(B212:D212,F212:J212)=0,"",IF(COUNTA($C$4)=0,"",$C$4)) | K212: =IF(COUNTA(B212:D212,F212:J212)=0,"",IF(OR(AND(F212<>"",ISERROR(VLOOKUP(VALUE(F212),料金表!$A$6:$B$8,2,FALSE()))),AND(G212<>"",ISERROR(VLOOKUP(VALUE(G212),料金表!$D$6:$E$8,2,FALSE()))),AND(H212<>"",ISERROR(VLOOKUP(H212,料金表!$G$6:$H$8,2,FALSE())))),"要確認",IF(F212="",0,VLOOKUP(VALUE(F212),料金表!$A$6:$B$8,2,FALSE()))+IF(G212="",0,VLOOKUP(VALUE(G212),料金表!$D$6:$E$8,2,FALSE()))+IF(H212="",0,VLOOKUP(H212,料金表!$G$6:$H$8,2,FALSE())))) | L212: =IF(COUNTA(B212:D212,F212:J212)=0,"",IF(OR(B212="",C212="",D212=""),"要確認：氏名・カナ・生年月日",IF(NOT(AND(ISTEXT(B212),LEN(B212)-LEN(SUBSTITUTE(B212," ",""))=1,LEFT(B212,1)<>" ",RIGHT(B212,1)<>" ",ISERROR(SEARCH(" ",B212)))),"要確認：姓と名に半角スペース",IF(NOT(IFERROR(AND(ISTEXT(D212),LEN(D212)>=8,LEN(D212)<=10,MID(D212,5,1)="/",LEN(D212)-LEN(SUBSTITUTE(D212,"/",""))=2,FIND("/",D212,6)>=7,FIND("/",D212,6)<=8,LEN(D212)-FIND("/",D212,6)>=1,LEN(D212)-FIND("/",D212,6)<=2,YEAR(DATE(VALUE(LEFT(D212,4)),VALUE(MID(D212,6,FIND("/",D212,6)-6)),VALUE(MID(D212,FIND("/",D212,6)+1,2))))=VALUE(LEFT(D212,4)),MONTH(DATE(VALUE(LEFT(D212,4)),VALUE(MID(D212,6,FIND("/",D212,6)-6)),VALUE(MID(D212,FIND("/",D212,6)+1,2))))=VALUE(MID(D212,6,FIND("/",D212,6)-6)),DAY(DATE(VALUE(LEFT(D212,4)),VALUE(MID(D212,6,FIND("/",D212,6)-6)),VALUE(MID(D212,FIND("/",D212,6)+1,2))))=VALUE(MID(D212,FIND("/",D212,6)+1,2)),DATE(VALUE(LEFT(D212,4)),VALUE(MID(D212,6,FIND("/",D212,6)-6)),VALUE(MID(D212,FIND("/",D212,6)+1,2)))>=DATE(1900,1,1),DATE(VALUE(LEFT(D212,4)),VALUE(MID(D212,6,FIND("/",D212,6)-6)),VALUE(MID(D212,FIND("/",D212,6)+1,2)))<=$B$3,NOT(AND(VALUE(LEFT(D212,4))=1900,VALUE(MID(D212,6,FIND("/",D212,6)-6))=2,VALUE(MID(D212,FIND("/",D212,6)+1,2))=29))),FALSE())),"要確認：生年月日は西暦/月/日",IF(COUNTA(F212:H212)=0,"要確認：受験種目",IF(NOT(ISNUMBER(K212)),"要確認：級・段位",IF(AND(I212<>"",NOT(OR(I212="未確認",I212="はい",I212="いいえ"))),"要確認：初受験",IF(OR(AND(F212<>"",COUNTIFS($B$13:$B$212,B212,$M$13:$M$212,M212,$F$13:$F$212,F212)>1),AND(G212<>"",COUNTIFS($B$13:$B$212,B212,$M$13:$M$212,M212,$G$13:$G$212,G212)>1),AND(H212<>"",COUNTIFS($B$13:$B$212,B212,$M$13:$M$212,M212,$H$13:$H$212,H212)>1)),"要確認：同じ種目・級が重複","")))))))) | M212: =IF(D212="","",IFERROR(DATE(VALUE(LEFT(D212,4)),VALUE(MID(D212,6,FIND("/",D212,6)-6)),VALUE(MID(D212,FIND("/",D212,6)+1,2))),""))

Sheet 料金表
A2: 通常教室用 料金と入力の説明
A4: 黄色だけ入力。上部を折りたたむと見出しと記入例だけが固定されます。
A5: 珠算級 | B5: 受験料 | D5: 暗算級 | E5: 受験料 | G5: 段位認定 | H5: 受験料
A6: 1 | B6: 2800 | D6: 1 | E6: 1200 | G6: 珠算・暗算 | H6: 3500
A7: 2 | B7: 2000 | D7: 2 | E7: 1200 | G7: 珠算のみ | H7: 3000
A8: 3 | B8: 1800 | D8: 3 | E8: 1200 | G8: 暗算のみ | H8: 1500
A11: 通常教室では珠算・暗算とも1～3級です。下級の特別許可分は担当者側の別様式で扱います。
A13: 氏名は原表記を変えず、姓と名の間だけ半角スペースを1つ入れてください。
A15: 生年月日は西暦/月/日で入力します。入力欄では文字列として検査し、名簿出力では日付に変換します。
A17: 受験しない種目は空欄。初受験「はい」の対象種目は備考に記載してください。
A19: 同じ氏名・生年月日・種目・級の重複は確認表示します。自動で削除しません。
A21: 記入例の12行目は人数・料金・名簿出力のすべてから除外しています。
A23: 所属は教室名から自動表示します。教室コードの入力は不要です。
A25: 振込予定日は任意です。入金済みの判定は担当者が通帳と照合します。
A27: 教室申込に個人Web手数料550円は加算しません。通常の合格シールを別途課金しません。
A29: 入力欄は200行。訂正時は同じファイルを更新し、最終版を担当者が確認します。
A31: 出典 https://www.takarazuka-cci.or.jp/exam/soroban 2026年度要項と担当者の今回確定事項

Sheet 名簿貼付用
A1: id | B1: 施行日(和) | C1: 施行日(西) | D1: 施行曜日 | E1: W | G1: 回 | H1: 種類 | I1: 級 | J1: 受験番号 | K1: 中学生以上 | L1: 氏名 | M1: かな | N1: 生年月日(和) | O1: 生年月日西 | P1: 郵便番号 | Q1: 住所 | R1: 電話 | S1: メール | T1: 身分証 | U1: 所属1 | V1: 所属２ | W1: 開始時間 | X1: 受験会場住所 | Y1: 試験会場 | Z1: 合格証書郵送 | AA1: コメント | AB1: 中学以上 | AC1: 合格証書番号 | AD1: 結果 | AE1: 合計 | AF1: みとり | AG1: かけ | AH1: わり | AI1: みとり暗算 | AJ1: かけ暗算 | AK1: わり暗算 | AL1: 中学生判定基準日→翌年4/1 | AM1: 2027-04-01T00:00:00 | AN1: 段位認定 珠算暗算、珠算のみ、暗算のみ | AQ1: 当日速報 | AT1: 正式団体名（団体受験料一覧用） | AX1: 担当者用 一括コピー
H2: =IF(AND(ROW()-1<=教室申込!$K$5,教室申込!$K$7=0,COUNTA(教室申込!$C$4)=1),INDEX(展開用!$C$2:$C$601,MATCH(ROW()-1,展開用!$E$2:$E$601,0)),"") | I2: =IF(AND(ROW()-1<=教室申込!$K$5,教室申込!$K$7=0,COUNTA(教室申込!$C$4)=1),INDEX(展開用!$D$2:$D$601,MATCH(ROW()-1,展開用!$E$2:$E$601,0)),"") | L2: =IF(AND(ROW()-1<=教室申込!$K$5,教室申込!$K$7=0,COUNTA(教室申込!$C$4)=1),INDEX(教室申込!$B$1:$B$212,$AW2),"") | M2: =IF(AND(ROW()-1<=教室申込!$K$5,教室申込!$K$7=0,COUNTA(教室申込!$C$4)=1),INDEX(教室申込!$C$1:$C$212,$AW2),"") | O2: =IF(AND(ROW()-1<=教室申込!$K$5,教室申込!$K$7=0,COUNTA(教室申込!$C$4)=1),INDEX(展開用!$G$2:$G$601,MATCH(ROW()-1,展開用!$E$2:$E$601,0)),"") | U2: =IF(AND(ROW()-1<=教室申込!$K$5,教室申込!$K$7=0,COUNTA(教室申込!$C$4)=1),INDEX(展開用!$F$2:$F$601,MATCH(ROW()-1,展開用!$E$2:$E$601,0)),"") | AA2: =IF($AW2="","",IF(INDEX(教室申込!$J$1:$J$212,$AW2)="","",INDEX(教室申込!$J$1:$J$212,$AW2))) | AW2: =IF(AND(ROW()-1<=教室申込!$K$5,教室申込!$K$7=0,COUNTA(教室申込!$C$4)=1),INDEX(展開用!$B$2:$B$601,MATCH(ROW()-1,展開用!$E$2:$E$601,0)),"") | AX2: 教室申込の入力確認が0件になったら下の範囲をコピー。
H3: =IF(AND(ROW()-1<=教室申込!$K$5,教室申込!$K$7=0,COUNTA(教室申込!$C$4)=1),INDEX(展開用!$C$2:$C$601,MATCH(ROW()-1,展開用!$E$2:$E$601,0)),"") | I3: =IF(AND(ROW()-1<=教室申込!$K$5,教室申込!$K$7=0,COUNTA(教室申込!$C$4)=1),INDEX(展開用!$D$2:$D$601,MATCH(ROW()-1,展開用!$E$2:$E$601,0)),"") | L3: =IF(AND(ROW()-1<=教室申込!$K$5,教室申込!$K$7=0,COUNTA(教室申込!$C$4)=1),INDEX(教室申込!$B$1:$B$212,$AW3),"") | M3: =IF(AND(ROW()-1<=教室申込!$K$5,教室申込!$K$7=0,COUNTA(教室申込!$C$4)=1),INDEX(教室申込!$C$1:$C$212,$AW3),"") | O3: =IF(AND(ROW()-1<=教室申込!$K$5,教室申込!$K$7=0,COUNTA(教室申込!$C$4)=1),INDEX(展開用!$G$2:$G$601,MATCH(ROW()-1,展開用!$E$2:$E$601,0)),"") | U3: =IF(AND(ROW()-1<=教室申込!$K$5,教室申込!$K$7=0,COUNTA(教室申込!$C$4)=1),INDEX(展開用!$F$2:$F$601,MATCH(ROW()-1,展開用!$E$2:$E$601,0)),"") | AA3: =IF($AW3="","",IF(INDEX(教室申込!$J$1:$J$212,$AW3)="","",INDEX(教室申込!$J$1:$J$212,$AW3))) | AW3: =IF(AND(ROW()-1<=教室申込!$K$5,教室申込!$K$7=0,COUNTA(教室申込!$C$4)=1),INDEX(展開用!$B$2:$B$601,MATCH(ROW()-1,展開用!$E$2:$E$601,0)),"") | AX3: 取込対応名簿の「申込取込」へ値の貼り付けを1回行います。
H4: =IF(AND(ROW()-1<=教室申込!$K$5,教室申込!$K$7=0,COUNTA(教室申込!$C$4)=1),INDEX(展開用!$C$2:$C$601,MATCH(ROW()-1,展開用!$E$2:$E$601,0)),"") | I4: =IF(AND(ROW()-1<=教室申込!$K$5,教室申込!$K$7=0,COUNTA(教室申込!$C$4)=1),INDEX(展開用!$D$2:$D$601,MATCH(ROW()-1,展開用!$E$2:$E$601,0)),"") | L4: =IF(AND(ROW()-1<=教室申込!$K$5,教室申込!$K$7=0,COUNTA(教室申込!$C$4)=1),INDEX(教室申込!$B$1:$B$212,$AW4),"") | M4: =IF(AND(ROW()-1<=教室申込!$K$5,教室申込!$K$7=0,COUNTA(教室申込!$C$4)=1),INDEX(教室申込!$C$1:$C$212,$AW4),"") | O4: =IF(AND(ROW()-1<=教室申込!$K$5,教室申込!$K$7=0,COUNTA(教室申込!$C$4)=1),INDEX(展開用!$G$2:$G$601,MATCH(ROW()-1,展開用!$E$2:$E$601,0)),"") | U4: =IF(AND(ROW()-1<=教室申込!$K$5,教室申込!$K$7=0,COUNTA(教室申込!$C$4)=1),INDEX(展開用!$F$2:$F$601,MATCH(ROW()-1,展開用!$E$2:$E$601,0)),"") | AA4: =IF($AW4="","",IF(INDEX(教室申込!$J$1:$J$212,$AW4)="","",INDEX(教室申込!$J$1:$J$212,$AW4))) | AW4: =IF(AND(ROW()-1<=教室申込!$K$5,教室申込!$K$7=0,COUNTA(教室申込!$C$4)=1),INDEX(展開用!$B$2:$B$601,MATCH(ROW()-1,展開用!$E$2:$E$601,0)),"") | AX4: 受験者一覧へ直接貼り付けないでください。
H5: =IF(AND(ROW()-1<=教室申込!$K$5,教室申込!$K$7=0,COUNTA(教室申込!$C$4)=1),INDEX(展開用!$C$2:$C$601,MATCH(ROW()-1,展開用!$E$2:$E$601,0)),"") | I5: =IF(AND(ROW()-1<=教室申込!$K$5,教室申込!$K$7=0,COUNTA(教室申込!$C$4)=1),INDEX(展開用!$D$2:$D$601,MATCH(ROW()-1,展開用!$E$2:$E$601,0)),"") | L5: =IF(AND(ROW()-1<=教室申込!$K$5,教室申込!$K$7=0,COUNTA(教室申込!$C$4)=1),INDEX(教室申込!$B$1:$B$212,$AW5),"") | M5: =IF(AND(ROW()-1<=教室申込!$K$5,教室申込!$K$7=0,COUNTA(教室申込!$C$4)=1),INDEX(教室申込!$C$1:$C$212,$AW5),"") | O5: =IF(AND(ROW()-1<=教室申込!$K$5,教室申込!$K$7=0,COUNTA(教室申込!$C$4)=1),INDEX(展開用!$G$2:$G$601,MATCH(ROW()-1,展開用!$E$2:$E$601,0)),"") | U5: =IF(AND(ROW()-1<=教室申込!$K$5,教室申込!$K$7=0,COUNTA(教室申込!$C$4)=1),INDEX(展開用!$F$2:$F$601,MATCH(ROW()-1,展開用!$E$2:$E$601,0)),"") | AA5: =IF($AW5="","",IF(INDEX(教室申込!$J$1:$J$212,$AW5)="","",INDEX(教室申込!$J$1:$J$212,$AW5))) | AW5: =IF(AND(ROW()-1<=教室申込!$K$5,教室申込!$K$7=0,COUNTA(教室申込!$C$4)=1),INDEX(展開用!$B$2:$B$601,MATCH(ROW()-1,展開用!$E$2:$E$601,0)),"") | AX5: 記入例は出力しません。段位は内部番号へ変換済みです。
H6: =IF(AND(ROW()-1<=教室申込!$K$5,教室申込!$K$7=0,COUNTA(教室申込!$C$4)=1),INDEX(展開用!$C$2:$C$601,MATCH(ROW()-1,展開用!$E$2:$E$601,0)),"") | I6: =IF(AND(ROW()-1<=教室申込!$K$5,教室申込!$K$7=0,COUNTA(教室申込!$C$4)=1),INDEX(展開用!$D$2:$D$601,MATCH(ROW()-1,展開用!$E$2:$E$601,0)),"") | L6: =IF(AND(ROW()-1<=教室申込!$K$5,教室申込!$K$7=0,COUNTA(教室申込!$C$4)=1),INDEX(教室申込!$B$1:$B$212,$AW6),"") | M6: =IF(AND(ROW()-1<=教室申込!$K$5,教室申込!$K$7=0,COUNTA(教室申込!$C$4)=1),INDEX(教室申込!$C$1:$C$212,$AW6),"") | O6: =IF(AND(ROW()-1<=教室申込!$K$5,教室申込!$K$7=0,COUNTA(教室申込!$C$4)=1),INDEX(展開用!$G$2:$G$601,MATCH(ROW()-1,展開用!$E$2:$E$601,0)),"") | U6: =IF(AND(ROW()-1<=教室申込!$K$5,教室申込!$K$7=0,COUNTA(教室申込!$C$4)=1),INDEX(展開用!$F$2:$F$601,MATCH(ROW()-1,展開用!$E$2:$E$601,0)),"") | AA6: =IF($AW6="","",IF(INDEX(教室申込!$J$1:$J$212,$AW6)="","",INDEX(教室申込!$J$1:$J$212,$AW6))) | AW6: =IF(AND(ROW()-1<=教室申込!$K$5,教室申込!$K$7=0,COUNTA(教室申込!$C$4)=1),INDEX(展開用!$B$2:$B$601,MATCH(ROW()-1,展開用!$E$2:$E$601,0)),"") | AX6: 訂正版は同じ教室の旧データと置き換えます。
H7: =IF(AND(ROW()-1<=教室申込!$K$5,教室申込!$K$7=0,COUNTA(教室申込!$C$4)=1),INDEX(展開用!$C$2:$C$601,MATCH(ROW()-1,展開用!$E$2:$E$601,0)),"") | I7: =IF(AND(ROW()-1<=教室申込!$K$5,教室申込!$K$7=0,COUNTA(教室申込!$C$4)=1),INDEX(展開用!$D$2:$D$601,MATCH(ROW()-1,展開用!$E$2:$E$601,0)),"") | L7: =IF(AND(ROW()-1<=教室申込!$K$5,教室申込!$K$7=0,COUNTA(教室申込!$C$4)=1),INDEX(教室申込!$B$1:$B$212,$AW7),"") | M7: =IF(AND(ROW()-1<=教室申込!$K$5,教室申込!$K$7=0,COUNTA(教室申込!$C$4)=1),INDEX(教室申込!$C$1:$C$212,$AW7),"") | O7: =IF(AND(ROW()-1<=教室申込!$K$5,教室申込!$K$7=0,COUNTA(教室申込!$C$4)=1),INDEX(展開用!$G$2:$G$601,MATCH(ROW()-1,展開用!$E$2:$E$601,0)),"") | U7: =IF(AND(ROW()-1<=教室申込!$K$5,教室申込!$K$7=0,COUNTA(教室申込!$C$4)=1),INDEX(展開用!$F$2:$F$601,MATCH(ROW()-1,展開用!$E$2:$E$601,0)),"") | AA7: =IF($AW7="","",IF(INDEX(教室申込!$J$1:$J$212,$AW7)="","",INDEX(教室申込!$J$1:$J$212,$AW7))) | AW7: =IF(AND(ROW()-1<=教室申込!$K$5,教室申込!$K$7=0,COUNTA(教室申込!$C$4)=1),INDEX(展開用!$B$2:$B$601,MATCH(ROW()-1,展開用!$E$2:$E$601,0)),"")
H8: =IF(AND(ROW()-1<=教室申込!$K$5,教室申込!$K$7=0,COUNTA(教室申込!$C$4)=1),INDEX(展開用!$C$2:$C$601,MATCH(ROW()-1,展開用!$E$2:$E$601,0)),"") | I8: =IF(AND(ROW()-1<=教室申込!$K$5,教室申込!$K$7=0,COUNTA(教室申込!$C$4)=1),INDEX(展開用!$D$2:$D$601,MATCH(ROW()-1,展開用!$E$2:$E$601,0)),"") | L8: =IF(AND(ROW()-1<=教室申込!$K$5,教室申込!$K$7=0,COUNTA(教室申込!$C$4)=1),INDEX(教室申込!$B$1:$B$212,$AW8),"") | M8: =IF(AND(ROW()-1<=教室申込!$K$5,教室申込!$K$7=0,COUNTA(教室申込!$C$4)=1),INDEX(教室申込!$C$1:$C$212,$AW8),"") | O8: =IF(AND(ROW()-1<=教室申込!$K$5,教室申込!$K$7=0,COUNTA(教室申込!$C$4)=1),INDEX(展開用!$G$2:$G$601,MATCH(ROW()-1,展開用!$E$2:$E$601,0)),"") | U8: =IF(AND(ROW()-1<=教室申込!$K$5,教室申込!$K$7=0,COUNTA(教室申込!$C$4)=1),INDEX(展開用!$F$2:$F$601,MATCH(ROW()-1,展開用!$E$2:$E$601,0)),"") | AA8: =IF($AW8="","",IF(INDEX(教室申込!$J$1:$J$212,$AW8)="","",INDEX(教室申込!$J$1:$J$212,$AW8))) | AW8: =IF(AND(ROW()-1<=教室申込!$K$5,教室申込!$K$7=0,COUNTA(教室申込!$C$4)=1),INDEX(展開用!$B$2:$B$601,MATCH(ROW()-1,展開用!$E$2:$E$601,0)),"")
H9: =IF(AND(ROW()-1<=教室申込!$K$5,教室申込!$K$7=0,COUNTA(教室申込!$C$4)=1),INDEX(展開用!$C$2:$C$601,MATCH(ROW()-1,展開用!$E$2:$E$601,0)),"") | I9: =IF(AND(ROW()-1<=教室申込!$K$5,教室申込!$K$7=0,COUNTA(教室申込!$C$4)=1),INDEX(展開用!$D$2:$D$601,MATCH(ROW()-1,展開用!$E$2:$E$601,0)),"") | L9: =IF(AND(ROW()-1<=教室申込!$K$5,教室申込!$K$7=0,COUNTA(教室申込!$C$4)=1),INDEX(教室申込!$B$1:$B$212,$AW9),"") | M9: =IF(AND(ROW()-1<=教室申込!$K$5,教室申込!$K$7=0,COUNTA(教室申込!$C$4)=1),INDEX(教室申込!$C$1:$C$212,$AW9),"") | O9: =IF(AND(ROW()-1<=教室申込!$K$5,教室申込!$K$7=0,COUNTA(教室申込!$C$4)=1),INDEX(展開用!$G$2:$G$601,MATCH(ROW()-1,展開用!$E$2:$E$601,0)),"") | U9: =IF(AND(ROW()-1<=教室申込!$K$5,教室申込!$K$7=0,COUNTA(教室申込!$C$4)=1),INDEX(展開用!$F$2:$F$601,MATCH(ROW()-1,展開用!$E$2:$E$601,0)),"") | AA9: =IF($AW9="","",IF(INDEX(教室申込!$J$1:$J$212,$AW9)="","",INDEX(教室申込!$J$1:$J$212,$AW9))) | AW9: =IF(AND(ROW()-1<=教室申込!$K$5,教室申込!$K$7=0,COUNTA(教室申込!$C$4)=1),INDEX(展開用!$B$2:$B$601,MATCH(ROW()-1,展開用!$E$2:$E$601,0)),"")
H10: =IF(AND(ROW()-1<=教室申込!$K$5,教室申込!$K$7=0,COUNTA(教室申込!$C$4)=1),INDEX(展開用!$C$2:$C$601,MATCH(ROW()-1,展開用!$E$2:$E$601,0)),"") | I10: =IF(AND(ROW()-1<=教室申込!$K$5,教室申込!$K$7=0,COUNTA(教室申込!$C$4)=1),INDEX(展開用!$D$2:$D$601,MATCH(ROW()-1,展開用!$E$2:$E$601,0)),"") | L10: =IF(AND(ROW()-1<=教室申込!$K$5,教室申込!$K$7=0,COUNTA(教室申込!$C$4)=1),INDEX(教室申込!$B$1:$B$212,$AW10),"") | M10: =IF(AND(ROW()-1<=教室申込!$K$5,教室申込!$K$7=0,COUNTA(教室申込!$C$4)=1),INDEX(教室申込!$C$1:$C$212,$AW10),"") | O10: =IF(AND(ROW()-1<=教室申込!$K$5,教室申込!$K$7=0,COUNTA(教室申込!$C$4)=1),INDEX(展開用!$G$2:$G$601,MATCH(ROW()-1,展開用!$E$2:$E$601,0)),"") | U10: =IF(AND(ROW()-1<=教室申込!$K$5,教室申込!$K$7=0,COUNTA(教室申込!$C$4)=1),INDEX(展開用!$F$2:$F$601,MATCH(ROW()-1,展開用!$E$2:$E$601,0)),"") | AA10: =IF($AW10="","",IF(INDEX(教室申込!$J$1:$J$212,$AW10)="","",INDEX(教室申込!$J$1:$J$212,$AW10))) | AW10: =IF(AND(ROW()-1<=教室申込!$K$5,教室申込!$K$7=0,COUNTA(教室申込!$C$4)=1),INDEX(展開用!$B$2:$B$601,MATCH(ROW()-1,展開用!$E$2:$E$601,0)),"") | AX10: コピー範囲 | AY10: =IF(COUNTA(教室申込!$C$4)=0,"教室名を入力してください",IF(教室申込!K7>0,"入力確認を解消してください",IF(教室申込!K5=0,"入力なし","A2:AV"&(教室申込!K5+1)))) -> 教室名を入力してください
H11: =IF(AND(ROW()-1<=教室申込!$K$5,教室申込!$K$7=0,COUNTA(教室申込!$C$4)=1),INDEX(展開用!$C$2:$C$601,MATCH(ROW()-1,展開用!$E$2:$E$601,0)),"") | I11: =IF(AND(ROW()-1<=教室申込!$K$5,教室申込!$K$7=0,COUNTA(教室申込!$C$4)=1),INDEX(展開用!$D$2:$D$601,MATCH(ROW()-1,展開用!$E$2:$E$601,0)),"") | L11: =IF(AND(ROW()-1<=教室申込!$K$5,教室申込!$K$7=0,COUNTA(教室申込!$C$4)=1),INDEX(教室申込!$B$1:$B$212,$AW11),"") | M11: =IF(AND(ROW()-1<=教室申込!$K$5,教室申込!$K$7=0,COUNTA(教室申込!$C$4)=1),INDEX(教室申込!$C$1:$C$212,$AW11),"") | O11: =IF(AND(ROW()-1<=教室申込!$K$5,教室申込!$K$7=0,COUNTA(教室申込!$C$4)=1),INDEX(展開用!$G$2:$G$601,MATCH(ROW()-1,展開用!$E$2:$E$601,0)),"") | U11: =IF(AND(ROW()-1<=教室申込!$K$5,教室申込!$K$7=0,COUNTA(教室申込!$C$4)=1),INDEX(展開用!$F$2:$F$601,MATCH(ROW()-1,展開用!$E$2:$E$601,0)),"") | AA11: =IF($AW11="","",IF(INDEX(教室申込!$J$1:$J$212,$AW11)="","",INDEX(教室申込!$J$1:$J$212,$AW11))) | AW11: =IF(AND(ROW()-1<=教室申込!$K$5,教室申込!$K$7=0,COUNTA(教室申込!$C$4)=1),INDEX(展開用!$B$2:$B$601,MATCH(ROW()-1,展開用!$E$2:$E$601,0)),"") | AX11: 受験件数 | AY11: =教室申込!K5 -> 0
H12: =IF(AND(ROW()-1<=教室申込!$K$5,教室申込!$K$7=0,COUNTA(教室申込!$C$4)=1),INDEX(展開用!$C$2:$C$601,MATCH(ROW()-1,展開用!$E$2:$E$601,0)),"") | I12: =IF(AND(ROW()-1<=教室申込!$K$5,教室申込!$K$7=0,COUNTA(教室申込!$C$4)=1),INDEX(展開用!$D$2:$D$601,MATCH(ROW()-1,展開用!$E$2:$E$601,0)),"") | L12: =IF(AND(ROW()-1<=教室申込!$K$5,教室申込!$K$7=0,COUNTA(教室申込!$C$4)=1),INDEX(教室申込!$B$1:$B$212,$AW12),"") | M12: =IF(AND(ROW()-1<=教室申込!$K$5,教室申込!$K$7=0,COUNTA(教室申込!$C$4)=1),INDEX(教室申込!$C$1:$C$212,$AW12),"") | O12: =IF(AND(ROW()-1<=教室申込!$K$5,教室申込!$K$7=0,COUNTA(教室申込!$C$4)=1),INDEX(展開用!$G$2:$G$601,MATCH(ROW()-1,展開用!$E$2:$E$601,0)),"") | U12: =IF(AND(ROW()-1<=教室申込!$K$5,教室申込!$K$7=0,COUNTA(教室申込!$C$4)=1),INDEX(展開用!$F$2:$F$601,MATCH(ROW()-1,展開用!$E$2:$E$601,0)),"") | AA12: =IF($AW12="","",IF(INDEX(教室申込!$J$1:$J$212,$AW12)="","",INDEX(教室申込!$J$1:$J$212,$AW12))) | AW12: =IF(AND(ROW()-1<=教室申込!$K$5,教室申込!$K$7=0,COUNTA(教室申込!$C$4)=1),INDEX(展開用!$B$2:$B$601,MATCH(ROW()-1,展開用!$E$2:$E$601,0)),"")
H13: =IF(AND(ROW()-1<=教室申込!$K$5,教室申込!$K$7=0,COUNTA(教室申込!$C$4)=1),INDEX(展開用!$C$2:$C$601,MATCH(ROW()-1,展開用!$E$2:$E$601,0)),"") | I13: =IF(AND(ROW()-1<=教室申込!$K$5,教室申込!$K$7=0,COUNTA(教室申込!$C$4)=1),INDEX(展開用!$D$2:$D$601,MATCH(ROW()-1,展開用!$E$2:$E$601,0)),"") | L13: =IF(AND(ROW()-1<=教室申込!$K$5,教室申込!$K$7=0,COUNTA(教室申込!$C$4)=1),INDEX(教室申込!$B$1:$B$212,$AW13),"") | M13: =IF(AND(ROW()-1<=教室申込!$K$5,教室申込!$K$7=0,COUNTA(教室申込!$C$4)=1),INDEX(教室申込!$C$1:$C$212,$AW13),"") | O13: =IF(AND(ROW()-1<=教室申込!$K$5,教室申込!$K$7=0,COUNTA(教室申込!$C$4)=1),INDEX(展開用!$G$2:$G$601,MATCH(ROW()-1,展開用!$E$2:$E$601,0)),"") | U13: =IF(AND(ROW()-1<=教室申込!$K$5,教室申込!$K$7=0,COUNTA(教室申込!$C$4)=1),INDEX(展開用!$F$2:$F$601,MATCH(ROW()-1,展開用!$E$2:$E$601,0)),"") | AA13: =IF($AW13="","",IF(INDEX(教室申込!$J$1:$J$212,$AW13)="","",INDEX(教室申込!$J$1:$J$212,$AW13))) | AW13: =IF(AND(ROW()-1<=教室申込!$K$5,教室申込!$K$7=0,COUNTA(教室申込!$C$4)=1),INDEX(展開用!$B$2:$B$601,MATCH(ROW()-1,展開用!$E$2:$E$601,0)),"")
H14: =IF(AND(ROW()-1<=教室申込!$K$5,教室申込!$K$7=0,COUNTA(教室申込!$C$4)=1),INDEX(展開用!$C$2:$C$601,MATCH(ROW()-1,展開用!$E$2:$E$601,0)),"") | I14: =IF(AND(ROW()-1<=教室申込!$K$5,教室申込!$K$7=0,COUNTA(教室申込!$C$4)=1),INDEX(展開用!$D$2:$D$601,MATCH(ROW()-1,展開用!$E$2:$E$601,0)),"") | L14: =IF(AND(ROW()-1<=教室申込!$K$5,教室申込!$K$7=0,COUNTA(教室申込!$C$4)=1),INDEX(教室申込!$B$1:$B$212,$AW14),"") | M14: =IF(AND(ROW()-1<=教室申込!$K$5,教室申込!$K$7=0,COUNTA(教室申込!$C$4)=1),INDEX(教室申込!$C$1:$C$212,$AW14),"") | O14: =IF(AND(ROW()-1<=教室申込!$K$5,教室申込!$K$7=0,COUNTA(教室申込!$C$4)=1),INDEX(展開用!$G$2:$G$601,MATCH(ROW()-1,展開用!$E$2:$E$601,0)),"") | U14: =IF(AND(ROW()-1<=教室申込!$K$5,教室申込!$K$7=0,COUNTA(教室申込!$C$4)=1),INDEX(展開用!$F$2:$F$601,MATCH(ROW()-1,展開用!$E$2:$E$601,0)),"") | AA14: =IF($AW14="","",IF(INDEX(教室申込!$J$1:$J$212,$AW14)="","",INDEX(教室申込!$J$1:$J$212,$AW14))) | AW14: =IF(AND(ROW()-1<=教室申込!$K$5,教室申込!$K$7=0,COUNTA(教室申込!$C$4)=1),INDEX(展開用!$B$2:$B$601,MATCH(ROW()-1,展開用!$E$2:$E$601,0)),"")
H15: =IF(AND(ROW()-1<=教室申込!$K$5,教室申込!$K$7=0,COUNTA(教室申込!$C$4)=1),INDEX(展開用!$C$2:$C$601,MATCH(ROW()-1,展開用!$E$2:$E$601,0)),"") | I15: =IF(AND(ROW()-1<=教室申込!$K$5,教室申込!$K$7=0,COUNTA(教室申込!$C$4)=1),INDEX(展開用!$D$2:$D$601,MATCH(ROW()-1,展開用!$E$2:$E$601,0)),"") | L15: =IF(AND(ROW()-1<=教室申込!$K$5,教室申込!$K$7=0,COUNTA(教室申込!$C$4)=1),INDEX(教室申込!$B$1:$B$212,$AW15),"") | M15: =IF(AND(ROW()-1<=教室申込!$K$5,教室申込!$K$7=0,COUNTA(教室申込!$C$4)=1),INDEX(教室申込!$C$1:$C$212,$AW15),"") | O15: =IF(AND(ROW()-1<=教室申込!$K$5,教室申込!$K$7=0,COUNTA(教室申込!$C$4)=1),INDEX(展開用!$G$2:$G$601,MATCH(ROW()-1,展開用!$E$2:$E$601,0)),"") | U15: =IF(AND(ROW()-1<=教室申込!$K$5,教室申込!$K$7=0,COUNTA(教室申込!$C$4)=1),INDEX(展開用!$F$2:$F$601,MATCH(ROW()-1,展開用!$E$2:$E$601,0)),"") | AA15: =IF($AW15="","",IF(INDEX(教室申込!$J$1:$J$212,$AW15)="","",INDEX(教室申込!$J$1:$J$212,$AW15))) | AW15: =IF(AND(ROW()-1<=教室申込!$K$5,教室申込!$K$7=0,COUNTA(教室申込!$C$4)=1),INDEX(展開用!$B$2:$B$601,MATCH(ROW()-1,展開用!$E$2:$E$601,0)),"")
H16: =IF(AND(ROW()-1<=教室申込!$K$5,教室申込!$K$7=0,COUNTA(教室申込!$C$4)=1),INDEX(展開用!$C$2:$C$601,MATCH(ROW()-1,展開用!$E$2:$E$601,0)),"") | I16: =IF(AND(ROW()-1<=教室申込!$K$5,教室申込!$K$7=0,COUNTA(教室申込!$C$4)=1),INDEX(展開用!$D$2:$D$601,MATCH(ROW()-1,展開用!$E$2:$E$601,0)),"") | L16: =IF(AND(ROW()-1<=教室申込!$K$5,教室申込!$K$7=0,COUNTA(教室申込!$C$4)=1),INDEX(教室申込!$B$1:$B$212,$AW16),"") | M16: =IF(AND(ROW()-1<=教室申込!$K$5,教室申込!$K$7=0,COUNTA(教室申込!$C$4)=1),INDEX(教室申込!$C$1:$C$212,$AW16),"") | O16: =IF(AND(ROW()-1<=教室申込!$K$5,教室申込!$K$7=0,COUNTA(教室申込!$C$4)=1),INDEX(展開用!$G$2:$G$601,MATCH(ROW()-1,展開用!$E$2:$E$601,0)),"") | U16: =IF(AND(ROW()-1<=教室申込!$K$5,教室申込!$K$7=0,COUNTA(教室申込!$C$4)=1),INDEX(展開用!$F$2:$F$601,MATCH(ROW()-1,展開用!$E$2:$E$601,0)),"") | AA16: =IF($AW16="","",IF(INDEX(教室申込!$J$1:$J$212,$AW16)="","",INDEX(教室申込!$J$1:$J$212,$AW16))) | AW16: =IF(AND(ROW()-1<=教室申込!$K$5,教室申込!$K$7=0,COUNTA(教室申込!$C$4)=1),INDEX(展開用!$B$2:$B$601,MATCH(ROW()-1,展開用!$E$2:$E$601,0)),"")
H17: =IF(AND(ROW()-1<=教室申込!$K$5,教室申込!$K$7=0,COUNTA(教室申込!$C$4)=1),INDEX(展開用!$C$2:$C$601,MATCH(ROW()-1,展開用!$E$2:$E$601,0)),"") | I17: =IF(AND(ROW()-1<=教室申込!$K$5,教室申込!$K$7=0,COUNTA(教室申込!$C$4)=1),INDEX(展開用!$D$2:$D$601,MATCH(ROW()-1,展開用!$E$2:$E$601,0)),"") | L17: =IF(AND(ROW()-1<=教室申込!$K$5,教室申込!$K$7=0,COUNTA(教室申込!$C$4)=1),INDEX(教室申込!$B$1:$B$212,$AW17),"") | M17: =IF(AND(ROW()-1<=教室申込!$K$5,教室申込!$K$7=0,COUNTA(教室申込!$C$4)=1),INDEX(教室申込!$C$1:$C$212,$AW17),"") | O17: =IF(AND(ROW()-1<=教室申込!$K$5,教室申込!$K$7=0,COUNTA(教室申込!$C$4)=1),INDEX(展開用!$G$2:$G$601,MATCH(ROW()-1,展開用!$E$2:$E$601,0)),"") | U17: =IF(AND(ROW()-1<=教室申込!$K$5,教室申込!$K$7=0,COUNTA(教室申込!$C$4)=1),INDEX(展開用!$F$2:$F$601,MATCH(ROW()-1,展開用!$E$2:$E$601,0)),"") | AA17: =IF($AW17="","",IF(INDEX(教室申込!$J$1:$J$212,$AW17)="","",INDEX(教室申込!$J$1:$J$212,$AW17))) | AW17: =IF(AND(ROW()-1<=教室申込!$K$5,教室申込!$K$7=0,COUNTA(教室申込!$C$4)=1),INDEX(展開用!$B$2:$B$601,MATCH(ROW()-1,展開用!$E$2:$E$601,0)),"")
H18: =IF(AND(ROW()-1<=教室申込!$K$5,教室申込!$K$7=0,COUNTA(教室申込!$C$4)=1),INDEX(展開用!$C$2:$C$601,MATCH(ROW()-1,展開用!$E$2:$E$601,0)),"") | I18: =IF(AND(ROW()-1<=教室申込!$K$5,教室申込!$K$7=0,COUNTA(教室申込!$C$4)=1),INDEX(展開用!$D$2:$D$601,MATCH(ROW()-1,展開用!$E$2:$E$601,0)),"") | L18: =IF(AND(ROW()-1<=教室申込!$K$5,教室申込!$K$7=0,COUNTA(教室申込!$C$4)=1),INDEX(教室申込!$B$1:$B$212,$AW18),"") | M18: =IF(AND(ROW()-1<=教室申込!$K$5,教室申込!$K$7=0,COUNTA(教室申込!$C$4)=1),INDEX(教室申込!$C$1:$C$212,$AW18),"") | O18: =IF(AND(ROW()-1<=教室申込!$K$5,教室申込!$K$7=0,COUNTA(教室申込!$C$4)=1),INDEX(展開用!$G$2:$G$601,MATCH(ROW()-1,展開用!$E$2:$E$601,0)),"") | U18: =IF(AND(ROW()-1<=教室申込!$K$5,教室申込!$K$7=0,COUNTA(教室申込!$C$4)=1),INDEX(展開用!$F$2:$F$601,MATCH(ROW()-1,展開用!$E$2:$E$601,0)),"") | AA18: =IF($AW18="","",IF(INDEX(教室申込!$J$1:$J$212,$AW18)="","",INDEX(教室申込!$J$1:$J$212,$AW18))) | AW18: =IF(AND(ROW()-1<=教室申込!$K$5,教室申込!$K$7=0,COUNTA(教室申込!$C$4)=1),INDEX(展開用!$B$2:$B$601,MATCH(ROW()-1,展開用!$E$2:$E$601,0)),"")
H19: =IF(AND(ROW()-1<=教室申込!$K$5,教室申込!$K$7=0,COUNTA(教室申込!$C$4)=1),INDEX(展開用!$C$2:$C$601,MATCH(ROW()-1,展開用!$E$2:$E$601,0)),"") | I19: =IF(AND(ROW()-1<=教室申込!$K$5,教室申込!$K$7=0,COUNTA(教室申込!$C$4)=1),INDEX(展開用!$D$2:$D$601,MATCH(ROW()-1,展開用!$E$2:$E$601,0)),"") | L19: =IF(AND(ROW()-1<=教室申込!$K$5,教室申込!$K$7=0,COUNTA(教室申込!$C$4)=1),INDEX(教室申込!$B$1:$B$212,$AW19),"") | M19: =IF(AND(ROW()-1<=教室申込!$K$5,教室申込!$K$7=0,COUNTA(教室申込!$C$4)=1),INDEX(教室申込!$C$1:$C$212,$AW19),"") | O19: =IF(AND(ROW()-1<=教室申込!$K$5,教室申込!$K$7=0,COUNTA(教室申込!$C$4)=1),INDEX(展開用!$G$2:$G$601,MATCH(ROW()-1,展開用!$E$2:$E$601,0)),"") | U19: =IF(AND(ROW()-1<=教室申込!$K$5,教室申込!$K$7=0,COUNTA(教室申込!$C$4)=1),INDEX(展開用!$F$2:$F$601,MATCH(ROW()-1,展開用!$E$2:$E$601,0)),"") | AA19: =IF($AW19="","",IF(INDEX(教室申込!$J$1:$J$212,$AW19)="","",INDEX(教室申込!$J$1:$J$212,$AW19))) | AW19: =IF(AND(ROW()-1<=教室申込!$K$5,教室申込!$K$7=0,COUNTA(教室申込!$C$4)=1),INDEX(展開用!$B$2:$B$601,MATCH(ROW()-1,展開用!$E$2:$E$601,0)),"")
H20: =IF(AND(ROW()-1<=教室申込!$K$5,教室申込!$K$7=0,COUNTA(教室申込!$C$4)=1),INDEX(展開用!$C$2:$C$601,MATCH(ROW()-1,展開用!$E$2:$E$601,0)),"") | I20: =IF(AND(ROW()-1<=教室申込!$K$5,教室申込!$K$7=0,COUNTA(教室申込!$C$4)=1),INDEX(展開用!$D$2:$D$601,MATCH(ROW()-1,展開用!$E$2:$E$601,0)),"") | L20: =IF(AND(ROW()-1<=教室申込!$K$5,教室申込!$K$7=0,COUNTA(教室申込!$C$4)=1),INDEX(教室申込!$B$1:$B$212,$AW20),"") | M20: =IF(AND(ROW()-1<=教室申込!$K$5,教室申込!$K$7=0,COUNTA(教室申込!$C$4)=1),INDEX(教室申込!$C$1:$C$212,$AW20),"") | O20: =IF(AND(ROW()-1<=教室申込!$K$5,教室申込!$K$7=0,COUNTA(教室申込!$C$4)=1),INDEX(展開用!$G$2:$G$601,MATCH(ROW()-1,展開用!$E$2:$E$601,0)),"") | U20: =IF(AND(ROW()-1<=教室申込!$K$5,教室申込!$K$7=0,COUNTA(教室申込!$C$4)=1),INDEX(展開用!$F$2:$F$601,MATCH(ROW()-1,展開用!$E$2:$E$601,0)),"") | AA20: =IF($AW20="","",IF(INDEX(教室申込!$J$1:$J$212,$AW20)="","",INDEX(教室申込!$J$1:$J$212,$AW20))) | AW20: =IF(AND(ROW()-1<=教室申込!$K$5,教室申込!$K$7=0,COUNTA(教室申込!$C$4)=1),INDEX(展開用!$B$2:$B$601,MATCH(ROW()-1,展開用!$E$2:$E$601,0)),"")
H21: =IF(AND(ROW()-1<=教室申込!$K$5,教室申込!$K$7=0,COUNTA(教室申込!$C$4)=1),INDEX(展開用!$C$2:$C$601,MATCH(ROW()-1,展開用!$E$2:$E$601,0)),"") | I21: =IF(AND(ROW()-1<=教室申込!$K$5,教室申込!$K$7=0,COUNTA(教室申込!$C$4)=1),INDEX(展開用!$D$2:$D$601,MATCH(ROW()-1,展開用!$E$2:$E$601,0)),"") | L21: =IF(AND(ROW()-1<=教室申込!$K$5,教室申込!$K$7=0,COUNTA(教室申込!$C$4)=1),INDEX(教室申込!$B$1:$B$212,$AW21),"") | M21: =IF(AND(ROW()-1<=教室申込!$K$5,教室申込!$K$7=0,COUNTA(教室申込!$C$4)=1),INDEX(教室申込!$C$1:$C$212,$AW21),"") | O21: =IF(AND(ROW()-1<=教室申込!$K$5,教室申込!$K$7=0,COUNTA(教室申込!$C$4)=1),INDEX(展開用!$G$2:$G$601,MATCH(ROW()-1,展開用!$E$2:$E$601,0)),"") | U21: =IF(AND(ROW()-1<=教室申込!$K$5,教室申込!$K$7=0,COUNTA(教室申込!$C$4)=1),INDEX(展開用!$F$2:$F$601,MATCH(ROW()-1,展開用!$E$2:$E$601,0)),"") | AA21: =IF($AW21="","",IF(INDEX(教室申込!$J$1:$J$212,$AW21)="","",INDEX(教室申込!$J$1:$J$212,$AW21))) | AW21: =IF(AND(ROW()-1<=教室申込!$K$5,教室申込!$K$7=0,COUNTA(教室申込!$C$4)=1),INDEX(展開用!$B$2:$B$601,MATCH(ROW()-1,展開用!$E$2:$E$601,0)),"")
H22: =IF(AND(ROW()-1<=教室申込!$K$5,教室申込!$K$7=0,COUNTA(教室申込!$C$4)=1),INDEX(展開用!$C$2:$C$601,MATCH(ROW()-1,展開用!$E$2:$E$601,0)),"") | I22: =IF(AND(ROW()-1<=教室申込!$K$5,教室申込!$K$7=0,COUNTA(教室申込!$C$4)=1),INDEX(展開用!$D$2:$D$601,MATCH(ROW()-1,展開用!$E$2:$E$601,0)),"") | L22: =IF(AND(ROW()-1<=教室申込!$K$5,教室申込!$K$7=0,COUNTA(教室申込!$C$4)=1),INDEX(教室申込!$B$1:$B$212,$AW22),"") | M22: =IF(AND(ROW()-1<=教室申込!$K$5,教室申込!$K$7=0,COUNTA(教室申込!$C$4)=1),INDEX(教室申込!$C$1:$C$212,$AW22),"") | O22: =IF(AND(ROW()-1<=教室申込!$K$5,教室申込!$K$7=0,COUNTA(教室申込!$C$4)=1),INDEX(展開用!$G$2:$G$601,MATCH(ROW()-1,展開用!$E$2:$E$601,0)),"") | U22: =IF(AND(ROW()-1<=教室申込!$K$5,教室申込!$K$7=0,COUNTA(教室申込!$C$4)=1),INDEX(展開用!$F$2:$F$601,MATCH(ROW()-1,展開用!$E$2:$E$601,0)),"") | AA22: =IF($AW22="","",IF(INDEX(教室申込!$J$1:$J$212,$AW22)="","",INDEX(教室申込!$J$1:$J$212,$AW22))) | AW22: =IF(AND(ROW()-1<=教室申込!$K$5,教室申込!$K$7=0,COUNTA(教室申込!$C$4)=1),INDEX(展開用!$B$2:$B$601,MATCH(ROW()-1,展開用!$E$2:$E$601,0)),"")
H23: =IF(AND(ROW()-1<=教室申込!$K$5,教室申込!$K$7=0,COUNTA(教室申込!$C$4)=1),INDEX(展開用!$C$2:$C$601,MATCH(ROW()-1,展開用!$E$2:$E$601,0)),"") | I23: =IF(AND(ROW()-1<=教室申込!$K$5,教室申込!$K$7=0,COUNTA(教室申込!$C$4)=1),INDEX(展開用!$D$2:$D$601,MATCH(ROW()-1,展開用!$E$2:$E$601,0)),"") | L23: =IF(AND(ROW()-1<=教室申込!$K$5,教室申込!$K$7=0,COUNTA(教室申込!$C$4)=1),INDEX(教室申込!$B$1:$B$212,$AW23),"") | M23: =IF(AND(ROW()-1<=教室申込!$K$5,教室申込!$K$7=0,COUNTA(教室申込!$C$4)=1),INDEX(教室申込!$C$1:$C$212,$AW23),"") | O23: =IF(AND(ROW()-1<=教室申込!$K$5,教室申込!$K$7=0,COUNTA(教室申込!$C$4)=1),INDEX(展開用!$G$2:$G$601,MATCH(ROW()-1,展開用!$E$2:$E$601,0)),"") | U23: =IF(AND(ROW()-1<=教室申込!$K$5,教室申込!$K$7=0,COUNTA(教室申込!$C$4)=1),INDEX(展開用!$F$2:$F$601,MATCH(ROW()-1,展開用!$E$2:$E$601,0)),"") | AA23: =IF($AW23="","",IF(INDEX(教室申込!$J$1:$J$212,$AW23)="","",INDEX(教室申込!$J$1:$J$212,$AW23))) | AW23: =IF(AND(ROW()-1<=教室申込!$K$5,教室申込!$K$7=0,COUNTA(教室申込!$C$4)=1),INDEX(展開用!$B$2:$B$601,MATCH(ROW()-1,展開用!$E$2:$E$601,0)),"")
... H601: =IF(AND(ROW()-1<=教室申込!$K$5,教室申込!$K$7=0,COUNTA(教室申込!$C$4)=1),INDEX(展開用!$C$2:$C$601,MATCH(ROW()-1,展開用!$E$2:$E$601,0)),"") | I601: =IF(AND(ROW()-1<=教室申込!$K$5,教室申込!$K$7=0,COUNTA(教室申込!$C$4)=1),INDEX(展開用!$D$2:$D$601,MATCH(ROW()-1,展開用!$E$2:$E$601,0)),"") | L601: =IF(AND(ROW()-1<=教室申込!$K$5,教室申込!$K$7=0,COUNTA(教室申込!$C$4)=1),INDEX(教室申込!$B$1:$B$212,$AW601),"") | M601: =IF(AND(ROW()-1<=教室申込!$K$5,教室申込!$K$7=0,COUNTA(教室申込!$C$4)=1),INDEX(教室申込!$C$1:$C$212,$AW601),"") | O601: =IF(AND(ROW()-1<=教室申込!$K$5,教室申込!$K$7=0,COUNTA(教室申込!$C$4)=1),INDEX(展開用!$G$2:$G$601,MATCH(ROW()-1,展開用!$E$2:$E$601,0)),"") | U601: =IF(AND(ROW()-1<=教室申込!$K$5,教室申込!$K$7=0,COUNTA(教室申込!$C$4)=1),INDEX(展開用!$F$2:$F$601,MATCH(ROW()-1,展開用!$E$2:$E$601,0)),"") | AA601: =IF($AW601="","",IF(INDEX(教室申込!$J$1:$J$212,$AW601)="","",INDEX(教室申込!$J$1:$J$212,$AW601))) | AW601: =IF(AND(ROW()-1<=教室申込!$K$5,教室申込!$K$7=0,COUNTA(教室申込!$C$4)=1),INDEX(展開用!$B$2:$B$601,MATCH(ROW()-1,展開用!$E$2:$E$601,0)),"")

Sheet 展開用
A1: 候補番号 | B1: 元行 | C1: 種類 | D1: 内部番号 | E1: 通番 | F1: 所属 | G1: 生年月日型変換
A2: =1 -> 1 | B2: =13 -> 13 | C2: ="珠算" -> 珠算 | D2: =IF(教室申込!F13="","",IFERROR(VALUE(教室申込!F13),"")) | E2: =IF(D2="","",COUNT($D$2:D2)) | F2: =IF(COUNTA(教室申込!$C$4)=0,"",教室申込!$C$4) | G2: =IF(教室申込!D13="","",IFERROR(DATE(VALUE(LEFT(教室申込!D13,4)),VALUE(MID(教室申込!D13,6,FIND("/",教室申込!D13,6)-6)),VALUE(MID(教室申込!D13,FIND("/",教室申込!D13,6)+1,2))),""))
A3: =2 -> 2 | B3: =13 -> 13 | C3: ="暗算" -> 暗算 | D3: =IF(教室申込!G13="","",IFERROR(VALUE(教室申込!G13),"")) | E3: =IF(D3="","",COUNT($D$2:D3)) | F3: =IF(COUNTA(教室申込!$C$4)=0,"",教室申込!$C$4) | G3: =IF(教室申込!D13="","",IFERROR(DATE(VALUE(LEFT(教室申込!D13,4)),VALUE(MID(教室申込!D13,6,FIND("/",教室申込!D13,6)-6)),VALUE(MID(教室申込!D13,FIND("/",教室申込!D13,6)+1,2))),""))
A4: =3 -> 3 | B4: =13 -> 13 | C4: ="段位認定" -> 段位認定 | D4: =IF(教室申込!H13="","",IFERROR(MATCH(教室申込!H13,料金表!$G$6:$G$8,0),"")) | E4: =IF(D4="","",COUNT($D$2:D4)) | F4: =IF(COUNTA(教室申込!$C$4)=0,"",教室申込!$C$4) | G4: =IF(教室申込!D13="","",IFERROR(DATE(VALUE(LEFT(教室申込!D13,4)),VALUE(MID(教室申込!D13,6,FIND("/",教室申込!D13,6)-6)),VALUE(MID(教室申込!D13,FIND("/",教室申込!D13,6)+1,2))),""))
A5: =4 -> 4 | B5: =14 -> 14 | C5: ="珠算" -> 珠算 | D5: =IF(教室申込!F14="","",IFERROR(VALUE(教室申込!F14),"")) | E5: =IF(D5="","",COUNT($D$2:D5)) | F5: =IF(COUNTA(教室申込!$C$4)=0,"",教室申込!$C$4) | G5: =IF(教室申込!D14="","",IFERROR(DATE(VALUE(LEFT(教室申込!D14,4)),VALUE(MID(教室申込!D14,6,FIND("/",教室申込!D14,6)-6)),VALUE(MID(教室申込!D14,FIND("/",教室申込!D14,6)+1,2))),""))
A6: =5 -> 5 | B6: =14 -> 14 | C6: ="暗算" -> 暗算 | D6: =IF(教室申込!G14="","",IFERROR(VALUE(教室申込!G14),"")) | E6: =IF(D6="","",COUNT($D$2:D6)) | F6: =IF(COUNTA(教室申込!$C$4)=0,"",教室申込!$C$4) | G6: =IF(教室申込!D14="","",IFERROR(DATE(VALUE(LEFT(教室申込!D14,4)),VALUE(MID(教室申込!D14,6,FIND("/",教室申込!D14,6)-6)),VALUE(MID(教室申込!D14,FIND("/",教室申込!D14,6)+1,2))),""))
A7: =6 -> 6 | B7: =14 -> 14 | C7: ="段位認定" -> 段位認定 | D7: =IF(教室申込!H14="","",IFERROR(MATCH(教室申込!H14,料金表!$G$6:$G$8,0),"")) | E7: =IF(D7="","",COUNT($D$2:D7)) | F7: =IF(COUNTA(教室申込!$C$4)=0,"",教室申込!$C$4) | G7: =IF(教室申込!D14="","",IFERROR(DATE(VALUE(LEFT(教室申込!D14,4)),VALUE(MID(教室申込!D14,6,FIND("/",教室申込!D14,6)-6)),VALUE(MID(教室申込!D14,FIND("/",教室申込!D14,6)+1,2))),""))
A8: =7 -> 7 | B8: =15 -> 15 | C8: ="珠算" -> 珠算 | D8: =IF(教室申込!F15="","",IFERROR(VALUE(教室申込!F15),"")) | E8: =IF(D8="","",COUNT($D$2:D8)) | F8: =IF(COUNTA(教室申込!$C$4)=0,"",教室申込!$C$4) | G8: =IF(教室申込!D15="","",IFERROR(DATE(VALUE(LEFT(教室申込!D15,4)),VALUE(MID(教室申込!D15,6,FIND("/",教室申込!D15,6)-6)),VALUE(MID(教室申込!D15,FIND("/",教室申込!D15,6)+1,2))),""))
A9: =8 -> 8 | B9: =15 -> 15 | C9: ="暗算" -> 暗算 | D9: =IF(教室申込!G15="","",IFERROR(VALUE(教室申込!G15),"")) | E9: =IF(D9="","",COUNT($D$2:D9)) | F9: =IF(COUNTA(教室申込!$C$4)=0,"",教室申込!$C$4) | G9: =IF(教室申込!D15="","",IFERROR(DATE(VALUE(LEFT(教室申込!D15,4)),VALUE(MID(教室申込!D15,6,FIND("/",教室申込!D15,6)-6)),VALUE(MID(教室申込!D15,FIND("/",教室申込!D15,6)+1,2))),""))
A10: =9 -> 9 | B10: =15 -> 15 | C10: ="段位認定" -> 段位認定 | D10: =IF(教室申込!H15="","",IFERROR(MATCH(教室申込!H15,料金表!$G$6:$G$8,0),"")) | E10: =IF(D10="","",COUNT($D$2:D10)) | F10: =IF(COUNTA(教室申込!$C$4)=0,"",教室申込!$C$4) | G10: =IF(教室申込!D15="","",IFERROR(DATE(VALUE(LEFT(教室申込!D15,4)),VALUE(MID(教室申込!D15,6,FIND("/",教室申込!D15,6)-6)),VALUE(MID(教室申込!D15,FIND("/",教室申込!D15,6)+1,2))),""))
A11: =10 -> 10 | B11: =16 -> 16 | C11: ="珠算" -> 珠算 | D11: =IF(教室申込!F16="","",IFERROR(VALUE(教室申込!F16),"")) | E11: =IF(D11="","",COUNT($D$2:D11)) | F11: =IF(COUNTA(教室申込!$C$4)=0,"",教室申込!$C$4) | G11: =IF(教室申込!D16="","",IFERROR(DATE(VALUE(LEFT(教室申込!D16,4)),VALUE(MID(教室申込!D16,6,FIND("/",教室申込!D16,6)-6)),VALUE(MID(教室申込!D16,FIND("/",教室申込!D16,6)+1,2))),""))
A12: =11 -> 11 | B12: =16 -> 16 | C12: ="暗算" -> 暗算 | D12: =IF(教室申込!G16="","",IFERROR(VALUE(教室申込!G16),"")) | E12: =IF(D12="","",COUNT($D$2:D12)) | F12: =IF(COUNTA(教室申込!$C$4)=0,"",教室申込!$C$4) | G12: =IF(教室申込!D16="","",IFERROR(DATE(VALUE(LEFT(教室申込!D16,4)),VALUE(MID(教室申込!D16,6,FIND("/",教室申込!D16,6)-6)),VALUE(MID(教室申込!D16,FIND("/",教室申込!D16,6)+1,2))),""))
A13: =12 -> 12 | B13: =16 -> 16 | C13: ="段位認定" -> 段位認定 | D13: =IF(教室申込!H16="","",IFERROR(MATCH(教室申込!H16,料金表!$G$6:$G$8,0),"")) | E13: =IF(D13="","",COUNT($D$2:D13)) | F13: =IF(COUNTA(教室申込!$C$4)=0,"",教室申込!$C$4) | G13: =IF(教室申込!D16="","",IFERROR(DATE(VALUE(LEFT(教室申込!D16,4)),VALUE(MID(教室申込!D16,6,FIND("/",教室申込!D16,6)-6)),VALUE(MID(教室申込!D16,FIND("/",教室申込!D16,6)+1,2))),""))
A14: =13 -> 13 | B14: =17 -> 17 | C14: ="珠算" -> 珠算 | D14: =IF(教室申込!F17="","",IFERROR(VALUE(教室申込!F17),"")) | E14: =IF(D14="","",COUNT($D$2:D14)) | F14: =IF(COUNTA(教室申込!$C$4)=0,"",教室申込!$C$4) | G14: =IF(教室申込!D17="","",IFERROR(DATE(VALUE(LEFT(教室申込!D17,4)),VALUE(MID(教室申込!D17,6,FIND("/",教室申込!D17,6)-6)),VALUE(MID(教室申込!D17,FIND("/",教室申込!D17,6)+1,2))),""))
A15: =14 -> 14 | B15: =17 -> 17 | C15: ="暗算" -> 暗算 | D15: =IF(教室申込!G17="","",IFERROR(VALUE(教室申込!G17),"")) | E15: =IF(D15="","",COUNT($D$2:D15)) | F15: =IF(COUNTA(教室申込!$C$4)=0,"",教室申込!$C$4) | G15: =IF(教室申込!D17="","",IFERROR(DATE(VALUE(LEFT(教室申込!D17,4)),VALUE(MID(教室申込!D17,6,FIND("/",教室申込!D17,6)-6)),VALUE(MID(教室申込!D17,FIND("/",教室申込!D17,6)+1,2))),""))
A16: =15 -> 15 | B16: =17 -> 17 | C16: ="段位認定" -> 段位認定 | D16: =IF(教室申込!H17="","",IFERROR(MATCH(教室申込!H17,料金表!$G$6:$G$8,0),"")) | E16: =IF(D16="","",COUNT($D$2:D16)) | F16: =IF(COUNTA(教室申込!$C$4)=0,"",教室申込!$C$4) | G16: =IF(教室申込!D17="","",IFERROR(DATE(VALUE(LEFT(教室申込!D17,4)),VALUE(MID(教室申込!D17,6,FIND("/",教室申込!D17,6)-6)),VALUE(MID(教室申込!D17,FIND("/",教室申込!D17,6)+1,2))),""))
A17: =16 -> 16 | B17: =18 -> 18 | C17: ="珠算" -> 珠算 | D17: =IF(教室申込!F18="","",IFERROR(VALUE(教室申込!F18),"")) | E17: =IF(D17="","",COUNT($D$2:D17)) | F17: =IF(COUNTA(教室申込!$C$4)=0,"",教室申込!$C$4) | G17: =IF(教室申込!D18="","",IFERROR(DATE(VALUE(LEFT(教室申込!D18,4)),VALUE(MID(教室申込!D18,6,FIND("/",教室申込!D18,6)-6)),VALUE(MID(教室申込!D18,FIND("/",教室申込!D18,6)+1,2))),""))
A18: =17 -> 17 | B18: =18 -> 18 | C18: ="暗算" -> 暗算 | D18: =IF(教室申込!G18="","",IFERROR(VALUE(教室申込!G18),"")) | E18: =IF(D18="","",COUNT($D$2:D18)) | F18: =IF(COUNTA(教室申込!$C$4)=0,"",教室申込!$C$4) | G18: =IF(教室申込!D18="","",IFERROR(DATE(VALUE(LEFT(教室申込!D18,4)),VALUE(MID(教室申込!D18,6,FIND("/",教室申込!D18,6)-6)),VALUE(MID(教室申込!D18,FIND("/",教室申込!D18,6)+1,2))),""))
A19: =18 -> 18 | B19: =18 -> 18 | C19: ="段位認定" -> 段位認定 | D19: =IF(教室申込!H18="","",IFERROR(MATCH(教室申込!H18,料金表!$G$6:$G$8,0),"")) | E19: =IF(D19="","",COUNT($D$2:D19)) | F19: =IF(COUNTA(教室申込!$C$4)=0,"",教室申込!$C$4) | G19: =IF(教室申込!D18="","",IFERROR(DATE(VALUE(LEFT(教室申込!D18,4)),VALUE(MID(教室申込!D18,6,FIND("/",教室申込!D18,6)-6)),VALUE(MID(教室申込!D18,FIND("/",教室申込!D18,6)+1,2))),""))
A20: =19 -> 19 | B20: =19 -> 19 | C20: ="珠算" -> 珠算 | D20: =IF(教室申込!F19="","",IFERROR(VALUE(教室申込!F19),"")) | E20: =IF(D20="","",COUNT($D$2:D20)) | F20: =IF(COUNTA(教室申込!$C$4)=0,"",教室申込!$C$4) | G20: =IF(教室申込!D19="","",IFERROR(DATE(VALUE(LEFT(教室申込!D19,4)),VALUE(MID(教室申込!D19,6,FIND("/",教室申込!D19,6)-6)),VALUE(MID(教室申込!D19,FIND("/",教室申込!D19,6)+1,2))),""))
A21: =20 -> 20 | B21: =19 -> 19 | C21: ="暗算" -> 暗算 | D21: =IF(教室申込!G19="","",IFERROR(VALUE(教室申込!G19),"")) | E21: =IF(D21="","",COUNT($D$2:D21)) | F21: =IF(COUNTA(教室申込!$C$4)=0,"",教室申込!$C$4) | G21: =IF(教室申込!D19="","",IFERROR(DATE(VALUE(LEFT(教室申込!D19,4)),VALUE(MID(教室申込!D19,6,FIND("/",教室申込!D19,6)-6)),VALUE(MID(教室申込!D19,FIND("/",教室申込!D19,6)+1,2))),""))
A22: =21 -> 21 | B22: =19 -> 19 | C22: ="段位認定" -> 段位認定 | D22: =IF(教室申込!H19="","",IFERROR(MATCH(教室申込!H19,料金表!$G$6:$G$8,0),"")) | E22: =IF(D22="","",COUNT($D$2:D22)) | F22: =IF(COUNTA(教室申込!$C$4)=0,"",教室申込!$C$4) | G22: =IF(教室申込!D19="","",IFERROR(DATE(VALUE(LEFT(教室申込!D19,4)),VALUE(MID(教室申込!D19,6,FIND("/",教室申込!D19,6)-6)),VALUE(MID(教室申込!D19,FIND("/",教室申込!D19,6)+1,2))),""))
A23: =22 -> 22 | B23: =20 -> 20 | C23: ="珠算" -> 珠算 | D23: =IF(教室申込!F20="","",IFERROR(VALUE(教室申込!F20),"")) | E23: =IF(D23="","",COUNT($D$2:D23)) | F23: =IF(COUNTA(教室申込!$C$4)=0,"",教室申込!$C$4) | G23: =IF(教室申込!D20="","",IFERROR(DATE(VALUE(LEFT(教室申込!D20,4)),VALUE(MID(教室申込!D20,6,FIND("/",教室申込!D20,6)-6)),VALUE(MID(教室申込!D20,FIND("/",教室申込!D20,6)+1,2))),""))
A24: =23 -> 23 | B24: =20 -> 20 | C24: ="暗算" -> 暗算 | D24: =IF(教室申込!G20="","",IFERROR(VALUE(教室申込!G20),"")) | E24: =IF(D24="","",COUNT($D$2:D24)) | F24: =IF(COUNTA(教室申込!$C$4)=0,"",教室申込!$C$4) | G24: =IF(教室申込!D20="","",IFERROR(DATE(VALUE(LEFT(教室申込!D20,4)),VALUE(MID(教室申込!D20,6,FIND("/",教室申込!D20,6)-6)),VALUE(MID(教室申込!D20,FIND("/",教室申込!D20,6)+1,2))),""))
A25: =24 -> 24 | B25: =20 -> 20 | C25: ="段位認定" -> 段位認定 | D25: =IF(教室申込!H20="","",IFERROR(MATCH(教室申込!H20,料金表!$G$6:$G$8,0),"")) | E25: =IF(D25="","",COUNT($D$2:D25)) | F25: =IF(COUNTA(教室申込!$C$4)=0,"",教室申込!$C$4) | G25: =IF(教室申込!D20="","",IFERROR(DATE(VALUE(LEFT(教室申込!D20,4)),VALUE(MID(教室申込!D20,6,FIND("/",教室申込!D20,6)-6)),VALUE(MID(教室申込!D20,FIND("/",教室申込!D20,6)+1,2))),""))
A26: =25 -> 25 | B26: =21 -> 21 | C26: ="珠算" -> 珠算 | D26: =IF(教室申込!F21="","",IFERROR(VALUE(教室申込!F21),"")) | E26: =IF(D26="","",COUNT($D$2:D26)) | F26: =IF(COUNTA(教室申込!$C$4)=0,"",教室申込!$C$4) | G26: =IF(教室申込!D21="","",IFERROR(DATE(VALUE(LEFT(教室申込!D21,4)),VALUE(MID(教室申込!D21,6,FIND("/",教室申込!D21,6)-6)),VALUE(MID(教室申込!D21,FIND("/",教室申込!D21,6)+1,2))),""))
A27: =26 -> 26 | B27: =21 -> 21 | C27: ="暗算" -> 暗算 | D27: =IF(教室申込!G21="","",IFERROR(VALUE(教室申込!G21),"")) | E27: =IF(D27="","",COUNT($D$2:D27)) | F27: =IF(COUNTA(教室申込!$C$4)=0,"",教室申込!$C$4) | G27: =IF(教室申込!D21="","",IFERROR(DATE(VALUE(LEFT(教室申込!D21,4)),VALUE(MID(教室申込!D21,6,FIND("/",教室申込!D21,6)-6)),VALUE(MID(教室申込!D21,FIND("/",教室申込!D21,6)+1,2))),""))
A28: =27 -> 27 | B28: =21 -> 21 | C28: ="段位認定" -> 段位認定 | D28: =IF(教室申込!H21="","",IFERROR(MATCH(教室申込!H21,料金表!$G$6:$G$8,0),"")) | E28: =IF(D28="","",COUNT($D$2:D28)) | F28: =IF(COUNTA(教室申込!$C$4)=0,"",教室申込!$C$4) | G28: =IF(教室申込!D21="","",IFERROR(DATE(VALUE(LEFT(教室申込!D21,4)),VALUE(MID(教室申込!D21,6,FIND("/",教室申込!D21,6)-6)),VALUE(MID(教室申込!D21,FIND("/",教室申込!D21,6)+1,2))),""))
A29: =28 -> 28 | B29: =22 -> 22 | C29: ="珠算" -> 珠算 | D29: =IF(教室申込!F22="","",IFERROR(VALUE(教室申込!F22),"")) | E29: =IF(D29="","",COUNT($D$2:D29)) | F29: =IF(COUNTA(教室申込!$C$4)=0,"",教室申込!$C$4) | G29: =IF(教室申込!D22="","",IFERROR(DATE(VALUE(LEFT(教室申込!D22,4)),VALUE(MID(教室申込!D22,6,FIND("/",教室申込!D22,6)-6)),VALUE(MID(教室申込!D22,FIND("/",教室申込!D22,6)+1,2))),""))
A30: =29 -> 29 | B30: =22 -> 22 | C30: ="暗算" -> 暗算 | D30: =IF(教室申込!G22="","",IFERROR(VALUE(教室申込!G22),"")) | E30: =IF(D30="","",COUNT($D$2:D30)) | F30: =IF(COUNTA(教室申込!$C$4)=0,"",教室申込!$C$4) | G30: =IF(教室申込!D22="","",IFERROR(DATE(VALUE(LEFT(教室申込!D22,4)),VALUE(MID(教室申込!D22,6,FIND("/",教室申込!D22,6)-6)),VALUE(MID(教室申込!D22,FIND("/",教室申込!D22,6)+1,2))),""))
A31: =30 -> 30 | B31: =22 -> 22 | C31: ="段位認定" -> 段位認定 | D31: =IF(教室申込!H22="","",IFERROR(MATCH(教室申込!H22,料金表!$G$6:$G$8,0),"")) | E31: =IF(D31="","",COUNT($D$2:D31)) | F31: =IF(COUNTA(教室申込!$C$4)=0,"",教室申込!$C$4) | G31: =IF(教室申込!D22="","",IFERROR(DATE(VALUE(LEFT(教室申込!D22,4)),VALUE(MID(教室申込!D22,6,FIND("/",教室申込!D22,6)-6)),VALUE(MID(教室申込!D22,FIND("/",教室申込!D22,6)+1,2))),""))
A32: =31 -> 31 | B32: =23 -> 23 | C32: ="珠算" -> 珠算 | D32: =IF(教室申込!F23="","",IFERROR(VALUE(教室申込!F23),"")) | E32: =IF(D32="","",COUNT($D$2:D32)) | F32: =IF(COUNTA(教室申込!$C$4)=0,"",教室申込!$C$4) | G32: =IF(教室申込!D23="","",IFERROR(DATE(VALUE(LEFT(教室申込!D23,4)),VALUE(MID(教室申込!D23,6,FIND("/",教室申込!D23,6)-6)),VALUE(MID(教室申込!D23,FIND("/",教室申込!D23,6)+1,2))),""))
A33: =32 -> 32 | B33: =23 -> 23 | C33: ="暗算" -> 暗算 | D33: =IF(教室申込!G23="","",IFERROR(VALUE(教室申込!G23),"")) | E33: =IF(D33="","",COUNT($D$2:D33)) | F33: =IF(COUNTA(教室申込!$C$4)=0,"",教室申込!$C$4) | G33: =IF(教室申込!D23="","",IFERROR(DATE(VALUE(LEFT(教室申込!D23,4)),VALUE(MID(教室申込!D23,6,FIND("/",教室申込!D23,6)-6)),VALUE(MID(教室申込!D23,FIND("/",教室申込!D23,6)+1,2))),""))
A34: =33 -> 33 | B34: =23 -> 23 | C34: ="段位認定" -> 段位認定 | D34: =IF(教室申込!H23="","",IFERROR(MATCH(教室申込!H23,料金表!$G$6:$G$8,0),"")) | E34: =IF(D34="","",COUNT($D$2:D34)) | F34: =IF(COUNTA(教室申込!$C$4)=0,"",教室申込!$C$4) | G34: =IF(教室申込!D23="","",IFERROR(DATE(VALUE(LEFT(教室申込!D23,4)),VALUE(MID(教室申込!D23,6,FIND("/",教室申込!D23,6)-6)),VALUE(MID(教室申込!D23,FIND("/",教室申込!D23,6)+1,2))),""))
A35: =34 -> 34 | B35: =24 -> 24 | C35: ="珠算" -> 珠算 | D35: =IF(教室申込!F24="","",IFERROR(VALUE(教室申込!F24),"")) | E35: =IF(D35="","",COUNT($D$2:D35)) | F35: =IF(COUNTA(教室申込!$C$4)=0,"",教室申込!$C$4) | G35: =IF(教室申込!D24="","",IFERROR(DATE(VALUE(LEFT(教室申込!D24,4)),VALUE(MID(教室申込!D24,6,FIND("/",教室申込!D24,6)-6)),VALUE(MID(教室申込!D24,FIND("/",教室申込!D24,6)+1,2))),""))
A36: =35 -> 35 | B36: =24 -> 24 | C36: ="暗算" -> 暗算 | D36: =IF(教室申込!G24="","",IFERROR(VALUE(教室申込!G24),"")) | E36: =IF(D36="","",COUNT($D$2:D36)) | F36: =IF(COUNTA(教室申込!$C$4)=0,"",教室申込!$C$4) | G36: =IF(教室申込!D24="","",IFERROR(DATE(VALUE(LEFT(教室申込!D24,4)),VALUE(MID(教室申込!D24,6,FIND("/",教室申込!D24,6)-6)),VALUE(MID(教室申込!D24,FIND("/",教室申込!D24,6)+1,2))),""))
A37: =36 -> 36 | B37: =24 -> 24 | C37: ="段位認定" -> 段位認定 | D37: =IF(教室申込!H24="","",IFERROR(MATCH(教室申込!H24,料金表!$G$6:$G$8,0),"")) | E37: =IF(D37="","",COUNT($D$2:D37)) | F37: =IF(COUNTA(教室申込!$C$4)=0,"",教室申込!$C$4) | G37: =IF(教室申込!D24="","",IFERROR(DATE(VALUE(LEFT(教室申込!D24,4)),VALUE(MID(教室申込!D24,6,FIND("/",教室申込!D24,6)-6)),VALUE(MID(教室申込!D24,FIND("/",教室申込!D24,6)+1,2))),""))
A38: =37 -> 37 | B38: =25 -> 25 | C38: ="珠算" -> 珠算 | D38: =IF(教室申込!F25="","",IFERROR(VALUE(教室申込!F25),"")) | E38: =IF(D38="","",COUNT($D$2:D38)) | F38: =IF(COUNTA(教室申込!$C$4)=0,"",教室申込!$C$4) | G38: =IF(教室申込!D25="","",IFERROR(DATE(VALUE(LEFT(教室申込!D25,4)),VALUE(MID(教室申込!D25,6,FIND("/",教室申込!D25,6)-6)),VALUE(MID(教室申込!D25,FIND("/",教室申込!D25,6)+1,2))),""))
A39: =38 -> 38 | B39: =25 -> 25 | C39: ="暗算" -> 暗算 | D39: =IF(教室申込!G25="","",IFERROR(VALUE(教室申込!G25),"")) | E39: =IF(D39="","",COUNT($D$2:D39)) | F39: =IF(COUNTA(教室申込!$C$4)=0,"",教室申込!$C$4) | G39: =IF(教室申込!D25="","",IFERROR(DATE(VALUE(LEFT(教室申込!D25,4)),VALUE(MID(教室申込!D25,6,FIND("/",教室申込!D25,6)-6)),VALUE(MID(教室申込!D25,FIND("/",教室申込!D25,6)+1,2))),""))
A40: =39 -> 39 | B40: =25 -> 25 | C40: ="段位認定" -> 段位認定 | D40: =IF(教室申込!H25="","",IFERROR(MATCH(教室申込!H25,料金表!$G$6:$G$8,0),"")) | E40: =IF(D40="","",COUNT($D$2:D40)) | F40: =IF(COUNTA(教室申込!$C$4)=0,"",教室申込!$C$4) | G40: =IF(教室申込!D25="","",IFERROR(DATE(VALUE(LEFT(教室申込!D25,4)),VALUE(MID(教室申込!D25,6,FIND("/",教室申込!D25,6)-6)),VALUE(MID(教室申込!D25,FIND("/",教室申込!D25,6)+1,2))),""))
A41: =40 -> 40 | B41: =26 -> 26 | C41: ="珠算" -> 珠算 | D41: =IF(教室申込!F26="","",IFERROR(VALUE(教室申込!F26),"")) | E41: =IF(D41="","",COUNT($D$2:D41)) | F41: =IF(COUNTA(教室申込!$C$4)=0,"",教室申込!$C$4) | G41: =IF(教室申込!D26="","",IFERROR(DATE(VALUE(LEFT(教室申込!D26,4)),VALUE(MID(教室申込!D26,6,FIND("/",教室申込!D26,6)-6)),VALUE(MID(教室申込!D26,FIND("/",教室申込!D26,6)+1,2))),""))
A42: =41 -> 41 | B42: =26 -> 26 | C42: ="暗算" -> 暗算 | D42: =IF(教室申込!G26="","",IFERROR(VALUE(教室申込!G26),"")) | E42: =IF(D42="","",COUNT($D$2:D42)) | F42: =IF(COUNTA(教室申込!$C$4)=0,"",教室申込!$C$4) | G42: =IF(教室申込!D26="","",IFERROR(DATE(VALUE(LEFT(教室申込!D26,4)),VALUE(MID(教室申込!D26,6,FIND("/",教室申込!D26,6)-6)),VALUE(MID(教室申込!D26,FIND("/",教室申込!D26,6)+1,2))),""))
A43: =42 -> 42 | B43: =26 -> 26 | C43: ="段位認定" -> 段位認定 | D43: =IF(教室申込!H26="","",IFERROR(MATCH(教室申込!H26,料金表!$G$6:$G$8,0),"")) | E43: =IF(D43="","",COUNT($D$2:D43)) | F43: =IF(COUNTA(教室申込!$C$4)=0,"",教室申込!$C$4) | G43: =IF(教室申込!D26="","",IFERROR(DATE(VALUE(LEFT(教室申込!D26,4)),VALUE(MID(教室申込!D26,6,FIND("/",教室申込!D26,6)-6)),VALUE(MID(教室申込!D26,FIND("/",教室申込!D26,6)+1,2))),""))
A44: =43 -> 43 | B44: =27 -> 27 | C44: ="珠算" -> 珠算 | D44: =IF(教室申込!F27="","",IFERROR(VALUE(教室申込!F27),"")) | E44: =IF(D44="","",COUNT($D$2:D44)) | F44: =IF(COUNTA(教室申込!$C$4)=0,"",教室申込!$C$4) | G44: =IF(教室申込!D27="","",IFERROR(DATE(VALUE(LEFT(教室申込!D27,4)),VALUE(MID(教室申込!D27,6,FIND("/",教室申込!D27,6)-6)),VALUE(MID(教室申込!D27,FIND("/",教室申込!D27,6)+1,2))),""))
A45: =44 -> 44 | B45: =27 -> 27 | C45: ="暗算" -> 暗算 | D45: =IF(教室申込!G27="","",IFERROR(VALUE(教室申込!G27),"")) | E45: =IF(D45="","",COUNT($D$2:D45)) | F45: =IF(COUNTA(教室申込!$C$4)=0,"",教室申込!$C$4) | G45: =IF(教室申込!D27="","",IFERROR(DATE(VALUE(LEFT(教室申込!D27,4)),VALUE(MID(教室申込!D27,6,FIND("/",教室申込!D27,6)-6)),VALUE(MID(教室申込!D27,FIND("/",教室申込!D27,6)+1,2))),""))
A46: =45 -> 45 | B46: =27 -> 27 | C46: ="段位認定" -> 段位認定 | D46: =IF(教室申込!H27="","",IFERROR(MATCH(教室申込!H27,料金表!$G$6:$G$8,0),"")) | E46: =IF(D46="","",COUNT($D$2:D46)) | F46: =IF(COUNTA(教室申込!$C$4)=0,"",教室申込!$C$4) | G46: =IF(教室申込!D27="","",IFERROR(DATE(VALUE(LEFT(教室申込!D27,4)),VALUE(MID(教室申込!D27,6,FIND("/",教室申込!D27,6)-6)),VALUE(MID(教室申込!D27,FIND("/",教室申込!D27,6)+1,2))),""))
A47: =46 -> 46 | B47: =28 -> 28 | C47: ="珠算" -> 珠算 | D47: =IF(教室申込!F28="","",IFERROR(VALUE(教室申込!F28),"")) | E47: =IF(D47="","",COUNT($D$2:D47)) | F47: =IF(COUNTA(教室申込!$C$4)=0,"",教室申込!$C$4) | G47: =IF(教室申込!D28="","",IFERROR(DATE(VALUE(LEFT(教室申込!D28,4)),VALUE(MID(教室申込!D28,6,FIND("/",教室申込!D28,6)-6)),VALUE(MID(教室申込!D28,FIND("/",教室申込!D28,6)+1,2))),""))
A48: =47 -> 47 | B48: =28 -> 28 | C48: ="暗算" -> 暗算 | D48: =IF(教室申込!G28="","",IFERROR(VALUE(教室申込!G28),"")) | E48: =IF(D48="","",COUNT($D$2:D48)) | F48: =IF(COUNTA(教室申込!$C$4)=0,"",教室申込!$C$4) | G48: =IF(教室申込!D28="","",IFERROR(DATE(VALUE(LEFT(教室申込!D28,4)),VALUE(MID(教室申込!D28,6,FIND("/",教室申込!D28,6)-6)),VALUE(MID(教室申込!D28,FIND("/",教室申込!D28,6)+1,2))),""))
A49: =48 -> 48 | B49: =28 -> 28 | C49: ="段位認定" -> 段位認定 | D49: =IF(教室申込!H28="","",IFERROR(MATCH(教室申込!H28,料金表!$G$6:$G$8,0),"")) | E49: =IF(D49="","",COUNT($D$2:D49)) | F49: =IF(COUNTA(教室申込!$C$4)=0,"",教室申込!$C$4) | G49: =IF(教室申込!D28="","",IFERROR(DATE(VALUE(LEFT(教室申込!D28,4)),VALUE(MID(教室申込!D28,6,FIND("/",教室申込!D28,6)-6)),VALUE(MID(教室申込!D28,FIND("/",教室申込!D28,6)+1,2))),""))
A50: =49 -> 49 | B50: =29 -> 29 | C50: ="珠算" -> 珠算 | D50: =IF(教室申込!F29="","",IFERROR(VALUE(教室申込!F29),"")) | E50: =IF(D50="","",COUNT($D$2:D50)) | F50: =IF(COUNTA(教室申込!$C$4)=0,"",教室申込!$C$4) | G50: =IF(教室申込!D29="","",IFERROR(DATE(VALUE(LEFT(教室申込!D29,4)),VALUE(MID(教室申込!D29,6,FIND("/",教室申込!D29,6)-6)),VALUE(MID(教室申込!D29,FIND("/",教室申込!D29,6)+1,2))),""))
A51: =50 -> 50 | B51: =29 -> 29 | C51: ="暗算" -> 暗算 | D51: =IF(教室申込!G29="","",IFERROR(VALUE(教室申込!G29),"")) | E51: =IF(D51="","",COUNT($D$2:D51)) | F51: =IF(COUNTA(教室申込!$C$4)=0,"",教室申込!$C$4) | G51: =IF(教室申込!D29="","",IFERROR(DATE(VALUE(LEFT(教室申込!D29,4)),VALUE(MID(教室申込!D29,6,FIND("/",教室申込!D29,6)-6)),VALUE(MID(教室申込!D29,FIND("/",教室申込!D29,6)+1,2))),""))
A52: =51 -> 51 | B52: =29 -> 29 | C52: ="段位認定" -> 段位認定 | D52: =IF(教室申込!H29="","",IFERROR(MATCH(教室申込!H29,料金表!$G$6:$G$8,0),"")) | E52: =IF(D52="","",COUNT($D$2:D52)) | F52: =IF(COUNTA(教室申込!$C$4)=0,"",教室申込!$C$4) | G52: =IF(教室申込!D29="","",IFERROR(DATE(VALUE(LEFT(教室申込!D29,4)),VALUE(MID(教室申込!D29,6,FIND("/",教室申込!D29,6)-6)),VALUE(MID(教室申込!D29,FIND("/",教室申込!D29,6)+1,2))),""))
A53: =52 -> 52 | B53: =30 -> 30 | C53: ="珠算" -> 珠算 | D53: =IF(教室申込!F30="","",IFERROR(VALUE(教室申込!F30),"")) | E53: =IF(D53="","",COUNT($D$2:D53)) | F53: =IF(COUNTA(教室申込!$C$4)=0,"",教室申込!$C$4) | G53: =IF(教室申込!D30="","",IFERROR(DATE(VALUE(LEFT(教室申込!D30,4)),VALUE(MID(教室申込!D30,6,FIND("/",教室申込!D30,6)-6)),VALUE(MID(教室申込!D30,FIND("/",教室申込!D30,6)+1,2))),""))
A54: =53 -> 53 | B54: =30 -> 30 | C54: ="暗算" -> 暗算 | D54: =IF(教室申込!G30="","",IFERROR(VALUE(教室申込!G30),"")) | E54: =IF(D54="","",COUNT($D$2:D54)) | F54: =IF(COUNTA(教室申込!$C$4)=0,"",教室申込!$C$4) | G54: =IF(教室申込!D30="","",IFERROR(DATE(VALUE(LEFT(教室申込!D30,4)),VALUE(MID(教室申込!D30,6,FIND("/",教室申込!D30,6)-6)),VALUE(MID(教室申込!D30,FIND("/",教室申込!D30,6)+1,2))),""))
A55: =54 -> 54 | B55: =30 -> 30 | C55: ="段位認定" -> 段位認定 | D55: =IF(教室申込!H30="","",IFERROR(MATCH(教室申込!H30,料金表!$G$6:$G$8,0),"")) | E55: =IF(D55="","",COUNT($D$2:D55)) | F55: =IF(COUNTA(教室申込!$C$4)=0,"",教室申込!$C$4) | G55: =IF(教室申込!D30="","",IFERROR(DATE(VALUE(LEFT(教室申込!D30,4)),VALUE(MID(教室申込!D30,6,FIND("/",教室申込!D30,6)-6)),VALUE(MID(教室申込!D30,FIND("/",教室申込!D30,6)+1,2))),""))
A56: =55 -> 55 | B56: =31 -> 31 | C56: ="珠算" -> 珠算 | D56: =IF(教室申込!F31="","",IFERROR(VALUE(教室申込!F31),"")) | E56: =IF(D56="","",COUNT($D$2:D56)) | F56: =IF(COUNTA(教室申込!$C$4)=0,"",教室申込!$C$4) | G56: =IF(教室申込!D31="","",IFERROR(DATE(VALUE(LEFT(教室申込!D31,4)),VALUE(MID(教室申込!D31,6,FIND("/",教室申込!D31,6)-6)),VALUE(MID(教室申込!D31,FIND("/",教室申込!D31,6)+1,2))),""))
A57: =56 -> 56 | B57: =31 -> 31 | C57: ="暗算" -> 暗算 | D57: =IF(教室申込!G31="","",IFERROR(VALUE(教室申込!G31),"")) | E57: =IF(D57="","",COUNT($D$2:D57)) | F57: =IF(COUNTA(教室申込!$C$4)=0,"",教室申込!$C$4) | G57: =IF(教室申込!D31="","",IFERROR(DATE(VALUE(LEFT(教室申込!D31,4)),VALUE(MID(教室申込!D31,6,FIND("/",教室申込!D31,6)-6)),VALUE(MID(教室申込!D31,FIND("/",教室申込!D31,6)+1,2))),""))
A58: =57 -> 57 | B58: =31 -> 31 | C58: ="段位認定" -> 段位認定 | D58: =IF(教室申込!H31="","",IFERROR(MATCH(教室申込!H31,料金表!$G$6:$G$8,0),"")) | E58: =IF(D58="","",COUNT($D$2:D58)) | F58: =IF(COUNTA(教室申込!$C$4)=0,"",教室申込!$C$4) | G58: =IF(教室申込!D31="","",IFERROR(DATE(VALUE(LEFT(教室申込!D31,4)),VALUE(MID(教室申込!D31,6,FIND("/",教室申込!D31,6)-6)),VALUE(MID(教室申込!D31,FIND("/",教室申込!D31,6)+1,2))),""))
A59: =58 -> 58 | B59: =32 -> 32 | C59: ="珠算" -> 珠算 | D59: =IF(教室申込!F32="","",IFERROR(VALUE(教室申込!F32),"")) | E59: =IF(D59="","",COUNT($D$2:D59)) | F59: =IF(COUNTA(教室申込!$C$4)=0,"",教室申込!$C$4) | G59: =IF(教室申込!D32="","",IFERROR(DATE(VALUE(LEFT(教室申込!D32,4)),VALUE(MID(教室申込!D32,6,FIND("/",教室申込!D32,6)-6)),VALUE(MID(教室申込!D32,FIND("/",教室申込!D32,6)+1,2))),""))
A60: =59 -> 59 | B60: =32 -> 32 | C60: ="暗算" -> 暗算 | D60: =IF(教室申込!G32="","",IFERROR(VALUE(教室申込!G32),"")) | E60: =IF(D60="","",COUNT($D$2:D60)) | F60: =IF(COUNTA(教室申込!$C$4)=0,"",教室申込!$C$4) | G60: =IF(教室申込!D32="","",IFERROR(DATE(VALUE(LEFT(教室申込!D32,4)),VALUE(MID(教室申込!D32,6,FIND("/",教室申込!D32,6)-6)),VALUE(MID(教室申込!D32,FIND("/",教室申込!D32,6)+1,2))),""))
A61: =60 -> 60 | B61: =32 -> 32 | C61: ="段位認定" -> 段位認定 | D61: =IF(教室申込!H32="","",IFERROR(MATCH(教室申込!H32,料金表!$G$6:$G$8,0),"")) | E61: =IF(D61="","",COUNT($D$2:D61)) | F61: =IF(COUNTA(教室申込!$C$4)=0,"",教室申込!$C$4) | G61: =IF(教室申込!D32="","",IFERROR(DATE(VALUE(LEFT(教室申込!D32,4)),VALUE(MID(教室申込!D32,6,FIND("/",教室申込!D32,6)-6)),VALUE(MID(教室申込!D32,FIND("/",教室申込!D32,6)+1,2))),""))
A62: =61 -> 61 | B62: =33 -> 33 | C62: ="珠算" -> 珠算 | D62: =IF(教室申込!F33="","",IFERROR(VALUE(教室申込!F33),"")) | E62: =IF(D62="","",COUNT($D$2:D62)) | F62: =IF(COUNTA(教室申込!$C$4)=0,"",教室申込!$C$4) | G62: =IF(教室申込!D33="","",IFERROR(DATE(VALUE(LEFT(教室申込!D33,4)),VALUE(MID(教室申込!D33,6,FIND("/",教室申込!D33,6)-6)),VALUE(MID(教室申込!D33,FIND("/",教室申込!D33,6)+1,2))),""))
A63: =62 -> 62 | B63: =33 -> 33 | C63: ="暗算" -> 暗算 | D63: =IF(教室申込!G33="","",IFERROR(VALUE(教室申込!G33),"")) | E63: =IF(D63="","",COUNT($D$2:D63)) | F63: =IF(COUNTA(教室申込!$C$4)=0,"",教室申込!$C$4) | G63: =IF(教室申込!D33="","",IFERROR(DATE(VALUE(LEFT(教室申込!D33,4)),VALUE(MID(教室申込!D33,6,FIND("/",教室申込!D33,6)-6)),VALUE(MID(教室申込!D33,FIND("/",教室申込!D33,6)+1,2))),""))
A64: =63 -> 63 | B64: =33 -> 33 | C64: ="段位認定" -> 段位認定 | D64: =IF(教室申込!H33="","",IFERROR(MATCH(教室申込!H33,料金表!$G$6:$G$8,0),"")) | E64: =IF(D64="","",COUNT($D$2:D64)) | F64: =IF(COUNTA(教室申込!$C$4)=0,"",教室申込!$C$4) | G64: =IF(教室申込!D33="","",IFERROR(DATE(VALUE(LEFT(教室申込!D33,4)),VALUE(MID(教室申込!D33,6,FIND("/",教室申込!D33,6)-6)),VALUE(MID(教室申込!D33,FIND("/",教室申込!D33,6)+1,2))),""))
A65: =64 -> 64 | B65: =34 -> 34 | C65: ="珠算" -> 珠算 | D65: =IF(教室申込!F34="","",IFERROR(VALUE(教室申込!F34),"")) | E65: =IF(D65="","",COUNT($D$2:D65)) | F65: =IF(COUNTA(教室申込!$C$4)=0,"",教室申込!$C$4) | G65: =IF(教室申込!D34="","",IFERROR(DATE(VALUE(LEFT(教室申込!D34,4)),VALUE(MID(教室申込!D34,6,FIND("/",教室申込!D34,6)-6)),VALUE(MID(教室申込!D34,FIND("/",教室申込!D34,6)+1,2))),""))
A66: =65 -> 65 | B66: =34 -> 34 | C66: ="暗算" -> 暗算 | D66: =IF(教室申込!G34="","",IFERROR(VALUE(教室申込!G34),"")) | E66: =IF(D66="","",COUNT($D$2:D66)) | F66: =IF(COUNTA(教室申込!$C$4)=0,"",教室申込!$C$4) | G66: =IF(教室申込!D34="","",IFERROR(DATE(VALUE(LEFT(教室申込!D34,4)),VALUE(MID(教室申込!D34,6,FIND("/",教室申込!D34,6)-6)),VALUE(MID(教室申込!D34,FIND("/",教室申込!D34,6)+1,2))),""))
A67: =66 -> 66 | B67: =34 -> 34 | C67: ="段位認定" -> 段位認定 | D67: =IF(教室申込!H34="","",IFERROR(MATCH(教室申込!H34,料金表!$G$6:$G$8,0),"")) | E67: =IF(D67="","",COUNT($D$2:D67)) | F67: =IF(COUNTA(教室申込!$C$4)=0,"",教室申込!$C$4) | G67: =IF(教室申込!D34="","",IFERROR(DATE(VALUE(LEFT(教室申込!D34,4)),VALUE(MID(教室申込!D34,6,FIND("/",教室申込!D34,6)-6)),VALUE(MID(教室申込!D34,FIND("/",教室申込!D34,6)+1,2))),""))
A68: =67 -> 67 | B68: =35 -> 35 | C68: ="珠算" -> 珠算 | D68: =IF(教室申込!F35="","",IFERROR(VALUE(教室申込!F35),"")) | E68: =IF(D68="","",COUNT($D$2:D68)) | F68: =IF(COUNTA(教室申込!$C$4)=0,"",教室申込!$C$4) | G68: =IF(教室申込!D35="","",IFERROR(DATE(VALUE(LEFT(教室申込!D35,4)),VALUE(MID(教室申込!D35,6,FIND("/",教室申込!D35,6)-6)),VALUE(MID(教室申込!D35,FIND("/",教室申込!D35,6)+1,2))),""))
A69: =68 -> 68 | B69: =35 -> 35 | C69: ="暗算" -> 暗算 | D69: =IF(教室申込!G35="","",IFERROR(VALUE(教室申込!G35),"")) | E69: =IF(D69="","",COUNT($D$2:D69)) | F69: =IF(COUNTA(教室申込!$C$4)=0,"",教室申込!$C$4) | G69: =IF(教室申込!D35="","",IFERROR(DATE(VALUE(LEFT(教室申込!D35,4)),VALUE(MID(教室申込!D35,6,FIND("/",教室申込!D35,6)-6)),VALUE(MID(教室申込!D35,FIND("/",教室申込!D35,6)+1,2))),""))
A70: =69 -> 69 | B70: =35 -> 35 | C70: ="段位認定" -> 段位認定 | D70: =IF(教室申込!H35="","",IFERROR(MATCH(教室申込!H35,料金表!$G$6:$G$8,0),"")) | E70: =IF(D70="","",COUNT($D$2:D70)) | F70: =IF(COUNTA(教室申込!$C$4)=0,"",教室申込!$C$4) | G70: =IF(教室申込!D35="","",IFERROR(DATE(VALUE(LEFT(教室申込!D35,4)),VALUE(MID(教室申込!D35,6,FIND("/",教室申込!D35,6)-6)),VALUE(MID(教室申込!D35,FIND("/",教室申込!D35,6)+1,2))),""))
A71: =70 -> 70 | B71: =36 -> 36 | C71: ="珠算" -> 珠算 | D71: =IF(教室申込!F36="","",IFERROR(VALUE(教室申込!F36),"")) | E71: =IF(D71="","",COUNT($D$2:D71)) | F71: =IF(COUNTA(教室申込!$C$4)=0,"",教室申込!$C$4) | G71: =IF(教室申込!D36="","",IFERROR(DATE(VALUE(LEFT(教室申込!D36,4)),VALUE(MID(教室申込!D36,6,FIND("/",教室申込!D36,6)-6)),VALUE(MID(教室申込!D36,FIND("/",教室申込!D36,6)+1,2))),""))
A72: =71 -> 71 | B72: =36 -> 36 | C72: ="暗算" -> 暗算 | D72: =IF(教室申込!G36="","",IFERROR(VALUE(教室申込!G36),"")) | E72: =IF(D72="","",COUNT($D$2:D72)) | F72: =IF(COUNTA(教室申込!$C$4)=0,"",教室申込!$C$4) | G72: =IF(教室申込!D36="","",IFERROR(DATE(VALUE(LEFT(教室申込!D36,4)),VALUE(MID(教室申込!D36,6,FIND("/",教室申込!D36,6)-6)),VALUE(MID(教室申込!D36,FIND("/",教室申込!D36,6)+1,2))),""))
A73: =72 -> 72 | B73: =36 -> 36 | C73: ="段位認定" -> 段位認定 | D73: =IF(教室申込!H36="","",IFERROR(MATCH(教室申込!H36,料金表!$G$6:$G$8,0),"")) | E73: =IF(D73="","",COUNT($D$2:D73)) | F73: =IF(COUNTA(教室申込!$C$4)=0,"",教室申込!$C$4) | G73: =IF(教室申込!D36="","",IFERROR(DATE(VALUE(LEFT(教室申込!D36,4)),VALUE(MID(教室申込!D36,6,FIND("/",教室申込!D36,6)-6)),VALUE(MID(教室申込!D36,FIND("/",教室申込!D36,6)+1,2))),""))
A74: =73 -> 73 | B74: =37 -> 37 | C74: ="珠算" -> 珠算 | D74: =IF(教室申込!F37="","",IFERROR(VALUE(教室申込!F37),"")) | E74: =IF(D74="","",COUNT($D$2:D74)) | F74: =IF(COUNTA(教室申込!$C$4)=0,"",教室申込!$C$4) | G74: =IF(教室申込!D37="","",IFERROR(DATE(VALUE(LEFT(教室申込!D37,4)),VALUE(MID(教室申込!D37,6,FIND("/",教室申込!D37,6)-6)),VALUE(MID(教室申込!D37,FIND("/",教室申込!D37,6)+1,2))),""))
A75: =74 -> 74 | B75: =37 -> 37 | C75: ="暗算" -> 暗算 | D75: =IF(教室申込!G37="","",IFERROR(VALUE(教室申込!G37),"")) | E75: =IF(D75="","",COUNT($D$2:D75)) | F75: =IF(COUNTA(教室申込!$C$4)=0,"",教室申込!$C$4) | G75: =IF(教室申込!D37="","",IFERROR(DATE(VALUE(LEFT(教室申込!D37,4)),VALUE(MID(教室申込!D37,6,FIND("/",教室申込!D37,6)-6)),VALUE(MID(教室申込!D37,FIND("/",教室申込!D37,6)+1,2))),""))
A76: =75 -> 75 | B76: =37 -> 37 | C76: ="段位認定" -> 段位認定 | D76: =IF(教室申込!H37="","",IFERROR(MATCH(教室申込!H37,料金表!$G$6:$G$8,0),"")) | E76: =IF(D76="","",COUNT($D$2:D76)) | F76: =IF(COUNTA(教室申込!$C$4)=0,"",教室申込!$C$4) | G76: =IF(教室申込!D37="","",IFERROR(DATE(VALUE(LEFT(教室申込!D37,4)),VALUE(MID(教室申込!D37,6,FIND("/",教室申込!D37,6)-6)),VALUE(MID(教室申込!D37,FIND("/",教室申込!D37,6)+1,2))),""))
A77: =76 -> 76 | B77: =38 -> 38 | C77: ="珠算" -> 珠算 | D77: =IF(教室申込!F38="","",IFERROR(VALUE(教室申込!F38),"")) | E77: =IF(D77="","",COUNT($D$2:D77)) | F77: =IF(COUNTA(教室申込!$C$4)=0,"",教室申込!$C$4) | G77: =IF(教室申込!D38="","",IFERROR(DATE(VALUE(LEFT(教室申込!D38,4)),VALUE(MID(教室申込!D38,6,FIND("/",教室申込!D38,6)-6)),VALUE(MID(教室申込!D38,FIND("/",教室申込!D38,6)+1,2))),""))
A78: =77 -> 77 | B78: =38 -> 38 | C78: ="暗算" -> 暗算 | D78: =IF(教室申込!G38="","",IFERROR(VALUE(教室申込!G38),"")) | E78: =IF(D78="","",COUNT($D$2:D78)) | F78: =IF(COUNTA(教室申込!$C$4)=0,"",教室申込!$C$4) | G78: =IF(教室申込!D38="","",IFERROR(DATE(VALUE(LEFT(教室申込!D38,4)),VALUE(MID(教室申込!D38,6,FIND("/",教室申込!D38,6)-6)),VALUE(MID(教室申込!D38,FIND("/",教室申込!D38,6)+1,2))),""))
A79: =78 -> 78 | B79: =38 -> 38 | C79: ="段位認定" -> 段位認定 | D79: =IF(教室申込!H38="","",IFERROR(MATCH(教室申込!H38,料金表!$G$6:$G$8,0),"")) | E79: =IF(D79="","",COUNT($D$2:D79)) | F79: =IF(COUNTA(教室申込!$C$4)=0,"",教室申込!$C$4) | G79: =IF(教室申込!D38="","",IFERROR(DATE(VALUE(LEFT(教室申込!D38,4)),VALUE(MID(教室申込!D38,6,FIND("/",教室申込!D38,6)-6)),VALUE(MID(教室申込!D38,FIND("/",教室申込!D38,6)+1,2))),""))
A80: =79 -> 79 | B80: =39 -> 39 | C80: ="珠算" -> 珠算 | D80: =IF(教室申込!F39="","",IFERROR(VALUE(教室申込!F39),"")) | E80: =IF(D80="","",COUNT($D$2:D80)) | F80: =IF(COUNTA(教室申込!$C$4)=0,"",教室申込!$C$4) | G80: =IF(教室申込!D39="","",IFERROR(DATE(VALUE(LEFT(教室申込!D39,4)),VALUE(MID(教室申込!D39,6,FIND("/",教室申込!D39,6)-6)),VALUE(MID(教室申込!D39,FIND("/",教室申込!D39,6)+1,2))),""))
A81: =80 -> 80 | B81: =39 -> 39 | C81: ="暗算" -> 暗算 | D81: =IF(教室申込!G39="","",IFERROR(VALUE(教室申込!G39),"")) | E81: =IF(D81="","",COUNT($D$2:D81)) | F81: =IF(COUNTA(教室申込!$C$4)=0,"",教室申込!$C$4) | G81: =IF(教室申込!D39="","",IFERROR(DATE(VALUE(LEFT(教室申込!D39,4)),VALUE(MID(教室申込!D39,6,FIND("/",教室申込!D39,6)-6)),VALUE(MID(教室申込!D39,FIND("/",教室申込!D39,6)+1,2))),""))
A82: =81 -> 81 | B82: =39 -> 39 | C82: ="段位認定" -> 段位認定 | D82: =IF(教室申込!H39="","",IFERROR(MATCH(教室申込!H39,料金表!$G$6:$G$8,0),"")) | E82: =IF(D82="","",COUNT($D$2:D82)) | F82: =IF(COUNTA(教室申込!$C$4)=0,"",教室申込!$C$4) | G82: =IF(教室申込!D39="","",IFERROR(DATE(VALUE(LEFT(教室申込!D39,4)),VALUE(MID(教室申込!D39,6,FIND("/",教室申込!D39,6)-6)),VALUE(MID(教室申込!D39,FIND("/",教室申込!D39,6)+1,2))),""))
A83: =82 -> 82 | B83: =40 -> 40 | C83: ="珠算" -> 珠算 | D83: =IF(教室申込!F40="","",IFERROR(VALUE(教室申込!F40),"")) | E83: =IF(D83="","",COUNT($D$2:D83)) | F83: =IF(COUNTA(教室申込!$C$4)=0,"",教室申込!$C$4) | G83: =IF(教室申込!D40="","",IFERROR(DATE(VALUE(LEFT(教室申込!D40,4)),VALUE(MID(教室申込!D40,6,FIND("/",教室申込!D40,6)-6)),VALUE(MID(教室申込!D40,FIND("/",教室申込!D40,6)+1,2))),""))
A84: =83 -> 83 | B84: =40 -> 40 | C84: ="暗算" -> 暗算 | D84: =IF(教室申込!G40="","",IFERROR(VALUE(教室申込!G40),"")) | E84: =IF(D84="","",COUNT($D$2:D84)) | F84: =IF(COUNTA(教室申込!$C$4)=0,"",教室申込!$C$4) | G84: =IF(教室申込!D40="","",IFERROR(DATE(VALUE(LEFT(教室申込!D40,4)),VALUE(MID(教室申込!D40,6,FIND("/",教室申込!D40,6)-6)),VALUE(MID(教室申込!D40,FIND("/",教室申込!D40,6)+1,2))),""))
A85: =84 -> 84 | B85: =40 -> 40 | C85: ="段位認定" -> 段位認定 | D85: =IF(教室申込!H40="","",IFERROR(MATCH(教室申込!H40,料金表!$G$6:$G$8,0),"")) | E85: =IF(D85="","",COUNT($D$2:D85)) | F85: =IF(COUNTA(教室申込!$C$4)=0,"",教室申込!$C$4) | G85: =IF(教室申込!D40="","",IFERROR(DATE(VALUE(LEFT(教室申込!D40,4)),VALUE(MID(教室申込!D40,6,FIND("/",教室申込!D40,6)-6)),VALUE(MID(教室申込!D40,FIND("/",教室申込!D40,6)+1,2))),""))
A86: =85 -> 85 | B86: =41 -> 41 | C86: ="珠算" -> 珠算 | D86: =IF(教室申込!F41="","",IFERROR(VALUE(教室申込!F41),"")) | E86: =IF(D86="","",COUNT($D$2:D86)) | F86: =IF(COUNTA(教室申込!$C$4)=0,"",教室申込!$C$4) | G86: =IF(教室申込!D41="","",IFERROR(DATE(VALUE(LEFT(教室申込!D41,4)),VALUE(MID(教室申込!D41,6,FIND("/",教室申込!D41,6)-6)),VALUE(MID(教室申込!D41,FIND("/",教室申込!D41,6)+1,2))),""))
A87: =86 -> 86 | B87: =41 -> 41 | C87: ="暗算" -> 暗算 | D87: =IF(教室申込!G41="","",IFERROR(VALUE(教室申込!G41),"")) | E87: =IF(D87="","",COUNT($D$2:D87)) | F87: =IF(COUNTA(教室申込!$C$4)=0,"",教室申込!$C$4) | G87: =IF(教室申込!D41="","",IFERROR(DATE(VALUE(LEFT(教室申込!D41,4)),VALUE(MID(教室申込!D41,6,FIND("/",教室申込!D41,6)-6)),VALUE(MID(教室申込!D41,FIND("/",教室申込!D41,6)+1,2))),""))
A88: =87 -> 87 | B88: =41 -> 41 | C88: ="段位認定" -> 段位認定 | D88: =IF(教室申込!H41="","",IFERROR(MATCH(教室申込!H41,料金表!$G$6:$G$8,0),"")) | E88: =IF(D88="","",COUNT($D$2:D88)) | F88: =IF(COUNTA(教室申込!$C$4)=0,"",教室申込!$C$4) | G88: =IF(教室申込!D41="","",IFERROR(DATE(VALUE(LEFT(教室申込!D41,4)),VALUE(MID(教室申込!D41,6,FIND("/",教室申込!D41,6)-6)),VALUE(MID(教室申込!D41,FIND("/",教室申込!D41,6)+1,2))),""))
A89: =88 -> 88 | B89: =42 -> 42 | C89: ="珠算" -> 珠算 | D89: =IF(教室申込!F42="","",IFERROR(VALUE(教室申込!F42),"")) | E89: =IF(D89="","",COUNT($D$2:D89)) | F89: =IF(COUNTA(教室申込!$C$4)=0,"",教室申込!$C$4) | G89: =IF(教室申込!D42="","",IFERROR(DATE(VALUE(LEFT(教室申込!D42,4)),VALUE(MID(教室申込!D42,6,FIND("/",教室申込!D42,6)-6)),VALUE(MID(教室申込!D42,FIND("/",教室申込!D42,6)+1,2))),""))
A90: =89 -> 89 | B90: =42 -> 42 | C90: ="暗算" -> 暗算 | D90: =IF(教室申込!G42="","",IFERROR(VALUE(教室申込!G42),"")) | E90: =IF(D90="","",COUNT($D$2:D90)) | F90: =IF(COUNTA(教室申込!$C$4)=0,"",教室申込!$C$4) | G90: =IF(教室申込!D42="","",IFERROR(DATE(VALUE(LEFT(教室申込!D42,4)),VALUE(MID(教室申込!D42,6,FIND("/",教室申込!D42,6)-6)),VALUE(MID(教室申込!D42,FIND("/",教室申込!D42,6)+1,2))),""))
A91: =90 -> 90 | B91: =42 -> 42 | C91: ="段位認定" -> 段位認定 | D91: =IF(教室申込!H42="","",IFERROR(MATCH(教室申込!H42,料金表!$G$6:$G$8,0),"")) | E91: =IF(D91="","",COUNT($D$2:D91)) | F91: =IF(COUNTA(教室申込!$C$4)=0,"",教室申込!$C$4) | G91: =IF(教室申込!D42="","",IFERROR(DATE(VALUE(LEFT(教室申込!D42,4)),VALUE(MID(教室申込!D42,6,FIND("/",教室申込!D42,6)-6)),VALUE(MID(教室申込!D42,FIND("/",教室申込!D42,6)+1,2))),""))
A92: =91 -> 91 | B92: =43 -> 43 | C92: ="珠算" -> 珠算 | D92: =IF(教室申込!F43="","",IFERROR(VALUE(教室申込!F43),"")) | E92: =IF(D92="","",COUNT($D$2:D92)) | F92: =IF(COUNTA(教室申込!$C$4)=0,"",教室申込!$C$4) | G92: =IF(教室申込!D43="","",IFERROR(DATE(VALUE(LEFT(教室申込!D43,4)),VALUE(MID(教室申込!D43,6,FIND("/",教室申込!D43,6)-6)),VALUE(MID(教室申込!D43,FIND("/",教室申込!D43,6)+1,2))),""))
A93: =92 -> 92 | B93: =43 -> 43 | C93: ="暗算" -> 暗算 | D93: =IF(教室申込!G43="","",IFERROR(VALUE(教室申込!G43),"")) | E93: =IF(D93="","",COUNT($D$2:D93)) | F93: =IF(COUNTA(教室申込!$C$4)=0,"",教室申込!$C$4) | G93: =IF(教室申込!D43="","",IFERROR(DATE(VALUE(LEFT(教室申込!D43,4)),VALUE(MID(教室申込!D43,6,FIND("/",教室申込!D43,6)-6)),VALUE(MID(教室申込!D43,FIND("/",教室申込!D43,6)+1,2))),""))
A94: =93 -> 93 | B94: =43 -> 43 | C94: ="段位認定" -> 段位認定 | D94: =IF(教室申込!H43="","",IFERROR(MATCH(教室申込!H43,料金表!$G$6:$G$8,0),"")) | E94: =IF(D94="","",COUNT($D$2:D94)) | F94: =IF(COUNTA(教室申込!$C$4)=0,"",教室申込!$C$4) | G94: =IF(教室申込!D43="","",IFERROR(DATE(VALUE(LEFT(教室申込!D43,4)),VALUE(MID(教室申込!D43,6,FIND("/",教室申込!D43,6)-6)),VALUE(MID(教室申込!D43,FIND("/",教室申込!D43,6)+1,2))),""))
A95: =94 -> 94 | B95: =44 -> 44 | C95: ="珠算" -> 珠算 | D95: =IF(教室申込!F44="","",IFERROR(VALUE(教室申込!F44),"")) | E95: =IF(D95="","",COUNT($D$2:D95)) | F95: =IF(COUNTA(教室申込!$C$4)=0,"",教室申込!$C$4) | G95: =IF(教室申込!D44="","",IFERROR(DATE(VALUE(LEFT(教室申込!D44,4)),VALUE(MID(教室申込!D44,6,FIND("/",教室申込!D44,6)-6)),VALUE(MID(教室申込!D44,FIND("/",教室申込!D44,6)+1,2))),""))
A96: =95 -> 95 | B96: =44 -> 44 | C96: ="暗算" -> 暗算 | D96: =IF(教室申込!G44="","",IFERROR(VALUE(教室申込!G44),"")) | E96: =IF(D96="","",COUNT($D$2:D96)) | F96: =IF(COUNTA(教室申込!$C$4)=0,"",教室申込!$C$4) | G96: =IF(教室申込!D44="","",IFERROR(DATE(VALUE(LEFT(教室申込!D44,4)),VALUE(MID(教室申込!D44,6,FIND("/",教室申込!D44,6)-6)),VALUE(MID(教室申込!D44,FIND("/",教室申込!D44,6)+1,2))),""))
A97: =96 -> 96 | B97: =44 -> 44 | C97: ="段位認定" -> 段位認定 | D97: =IF(教室申込!H44="","",IFERROR(MATCH(教室申込!H44,料金表!$G$6:$G$8,0),"")) | E97: =IF(D97="","",COUNT($D$2:D97)) | F97: =IF(COUNTA(教室申込!$C$4)=0,"",教室申込!$C$4) | G97: =IF(教室申込!D44="","",IFERROR(DATE(VALUE(LEFT(教室申込!D44,4)),VALUE(MID(教室申込!D44,6,FIND("/",教室申込!D44,6)-6)),VALUE(MID(教室申込!D44,FIND("/",教室申込!D44,6)+1,2))),""))
A98: =97 -> 97 | B98: =45 -> 45 | C98: ="珠算" -> 珠算 | D98: =IF(教室申込!F45="","",IFERROR(VALUE(教室申込!F45),"")) | E98: =IF(D98="","",COUNT($D$2:D98)) | F98: =IF(COUNTA(教室申込!$C$4)=0,"",教室申込!$C$4) | G98: =IF(教室申込!D45="","",IFERROR(DATE(VALUE(LEFT(教室申込!D45,4)),VALUE(MID(教室申込!D45,6,FIND("/",教室申込!D45,6)-6)),VALUE(MID(教室申込!D45,FIND("/",教室申込!D45,6)+1,2))),""))
A99: =98 -> 98 | B99: =45 -> 45 | C99: ="暗算" -> 暗算 | D99: =IF(教室申込!G45="","",IFERROR(VALUE(教室申込!G45),"")) | E99: =IF(D99="","",COUNT($D$2:D99)) | F99: =IF(COUNTA(教室申込!$C$4)=0,"",教室申込!$C$4) | G99: =IF(教室申込!D45="","",IFERROR(DATE(VALUE(LEFT(教室申込!D45,4)),VALUE(MID(教室申込!D45,6,FIND("/",教室申込!D45,6)-6)),VALUE(MID(教室申込!D45,FIND("/",教室申込!D45,6)+1,2))),""))
A100: =99 -> 99 | B100: =45 -> 45 | C100: ="段位認定" -> 段位認定 | D100: =IF(教室申込!H45="","",IFERROR(MATCH(教室申込!H45,料金表!$G$6:$G$8,0),"")) | E100: =IF(D100="","",COUNT($D$2:D100)) | F100: =IF(COUNTA(教室申込!$C$4)=0,"",教室申込!$C$4) | G100: =IF(教室申込!D45="","",IFERROR(DATE(VALUE(LEFT(教室申込!D45,4)),VALUE(MID(教室申込!D45,6,FIND("/",教室申込!D45,6)-6)),VALUE(MID(教室申込!D45,FIND("/",教室申込!D45,6)+1,2))),""))
...
